BEGIN:VCALENDAR
VERSION:2.0
PRODID:-//Pickerington Online - ECPv6.15.20//NONSGML v1.0//EN
CALSCALE:GREGORIAN
METHOD:PUBLISH
X-WR-CALNAME:Pickerington Online
X-ORIGINAL-URL:https://pickeringtononline.com
X-WR-CALDESC:Events for Pickerington Online
REFRESH-INTERVAL;VALUE=DURATION:PT1H
X-Robots-Tag:noindex
X-PUBLISHED-TTL:PT1H
BEGIN:VTIMEZONE
TZID:America/New_York
BEGIN:DAYLIGHT
TZOFFSETFROM:-0500
TZOFFSETTO:-0400
TZNAME:EDT
DTSTART:20230312T070000
END:DAYLIGHT
BEGIN:STANDARD
TZOFFSETFROM:-0400
TZOFFSETTO:-0500
TZNAME:EST
DTSTART:20231105T060000
END:STANDARD
BEGIN:DAYLIGHT
TZOFFSETFROM:-0500
TZOFFSETTO:-0400
TZNAME:EDT
DTSTART:20240310T070000
END:DAYLIGHT
BEGIN:STANDARD
TZOFFSETFROM:-0400
TZOFFSETTO:-0500
TZNAME:EST
DTSTART:20241103T060000
END:STANDARD
BEGIN:DAYLIGHT
TZOFFSETFROM:-0500
TZOFFSETTO:-0400
TZNAME:EDT
DTSTART:20250309T070000
END:DAYLIGHT
BEGIN:STANDARD
TZOFFSETFROM:-0400
TZOFFSETTO:-0500
TZNAME:EST
DTSTART:20251102T060000
END:STANDARD
END:VTIMEZONE
BEGIN:VEVENT
DTSTART;TZID=America/New_York:20240217T100000
DTEND;TZID=America/New_York:20240217T140000
DTSTAMP:20260420T223049
CREATED:20240118T211651Z
LAST-MODIFIED:20240118T211651Z
UID:22518-1708164000-1708178400@pickeringtononline.com
SUMMARY:Great Backyard Bird Count
DESCRIPTION:Help us count all the different types of birds at Coyote Run. \n\n\n\n\n\n\nPickerington Public Library is partnering with Coyote Run State Nature Preserve to participate in the annual Great Backyard Bird Count. Join us at Coyote Run to count all the different types of birds that make their home in Pickerington’s backyard. Please dress accordingly. \nThis event will take place at Coyote Run State Nature Preserve. 9212 Pickerington Road\, Pickerington\, Ohio 43147 \n\n\n\nShare this:\n				Share on Facebook (Opens in new window)\n				Facebook\n			\n				Share on LinkedIn (Opens in new window)\n				LinkedIn\n			\n				Share on Threads (Opens in new window)\n				Threads\n			\n				Share on X (Opens in new window)\n				X\n			Like this:Like Loading...
URL:https://pickeringtononline.com/event/great-backyard-bird-count-3/
LOCATION:Coyote Run\, 9270 Pickerington Road Northwest\, Pickerington\, OH\, 43147\, United States
ORGANIZER;CN="Pickerington Public Library":MAILTO:cbauman@pickeringtonlibrary.org
END:VEVENT
END:VCALENDAR