BEGIN:VCALENDAR
VERSION:2.0
PRODID:-//Pickerington Online - ECPv6.15.20//NONSGML v1.0//EN
CALSCALE:GREGORIAN
METHOD:PUBLISH
X-ORIGINAL-URL:https://pickeringtononline.com
X-WR-CALDESC:Events for Pickerington Online
REFRESH-INTERVAL;VALUE=DURATION:PT1H
X-Robots-Tag:noindex
X-PUBLISHED-TTL:PT1H
BEGIN:VTIMEZONE
TZID:America/New_York
BEGIN:DAYLIGHT
TZOFFSETFROM:-0500
TZOFFSETTO:-0400
TZNAME:EDT
DTSTART:20250309T070000
END:DAYLIGHT
BEGIN:STANDARD
TZOFFSETFROM:-0400
TZOFFSETTO:-0500
TZNAME:EST
DTSTART:20251102T060000
END:STANDARD
BEGIN:DAYLIGHT
TZOFFSETFROM:-0500
TZOFFSETTO:-0400
TZNAME:EDT
DTSTART:20260308T070000
END:DAYLIGHT
BEGIN:STANDARD
TZOFFSETFROM:-0400
TZOFFSETTO:-0500
TZNAME:EST
DTSTART:20261101T060000
END:STANDARD
BEGIN:DAYLIGHT
TZOFFSETFROM:-0500
TZOFFSETTO:-0400
TZNAME:EDT
DTSTART:20270314T070000
END:DAYLIGHT
BEGIN:STANDARD
TZOFFSETFROM:-0400
TZOFFSETTO:-0500
TZNAME:EST
DTSTART:20271107T060000
END:STANDARD
END:VTIMEZONE
BEGIN:VEVENT
DTSTART;TZID=America/New_York:20260401T130000
DTEND;TZID=America/New_York:20260401T143000
DTSTAMP:20260424T185814
CREATED:20260227T170924Z
LAST-MODIFIED:20260227T170924Z
UID:41123-1775048400-1775053800@pickeringtononline.com
SUMMARY:Bunny Party
DESCRIPTION:Bring your best bunny hop and join the fun! \n\n\n\n\n\n\nSpring is here and it’s time for a party–a bunny party! Children can enjoy bunny-themed crafts\, a special scavenger hunt\, stories\, and photo opportunities with Reading Ambassador Violet. A rabbit from Bring the Farm to You will also be visiting from March 30 until April 4. \nIf you need accommodations for a class or event\, contact communications@pickeringtonlibrary.org or call 614-837-4104 ext. 221. \n\n\n\nShare this:\n				Share on Facebook (Opens in new window)\n				Facebook\n			\n				Share on LinkedIn (Opens in new window)\n				LinkedIn\n			\n				Share on Threads (Opens in new window)\n				Threads\n			\n				Share on X (Opens in new window)\n				X\n			Like this:Like Loading...
URL:https://pickeringtononline.com/event/bunny-party/
LOCATION:Pickerigton Public Library Main Branch\, 201 Opportunity Way\, Pickerington\, OH\, 43147\, United States
CATEGORIES:Community Event,Event for Young Children
ORGANIZER;CN="Pickerington Public Library":MAILTO:cbauman@pickeringtonlibrary.org
END:VEVENT
END:VCALENDAR