BEGIN:VCALENDAR
VERSION:2.0
PRODID:-//Pickerington Online - ECPv6.15.20//NONSGML v1.0//EN
CALSCALE:GREGORIAN
METHOD:PUBLISH
X-ORIGINAL-URL:https://pickeringtononline.com
X-WR-CALDESC:Events for Pickerington Online
REFRESH-INTERVAL;VALUE=DURATION:PT1H
X-Robots-Tag:noindex
X-PUBLISHED-TTL:PT1H
BEGIN:VTIMEZONE
TZID:America/New_York
BEGIN:DAYLIGHT
TZOFFSETFROM:-0500
TZOFFSETTO:-0400
TZNAME:EDT
DTSTART:20240310T070000
END:DAYLIGHT
BEGIN:STANDARD
TZOFFSETFROM:-0400
TZOFFSETTO:-0500
TZNAME:EST
DTSTART:20241103T060000
END:STANDARD
BEGIN:DAYLIGHT
TZOFFSETFROM:-0500
TZOFFSETTO:-0400
TZNAME:EDT
DTSTART:20250309T070000
END:DAYLIGHT
BEGIN:STANDARD
TZOFFSETFROM:-0400
TZOFFSETTO:-0500
TZNAME:EST
DTSTART:20251102T060000
END:STANDARD
BEGIN:DAYLIGHT
TZOFFSETFROM:-0500
TZOFFSETTO:-0400
TZNAME:EDT
DTSTART:20260308T070000
END:DAYLIGHT
BEGIN:STANDARD
TZOFFSETFROM:-0400
TZOFFSETTO:-0500
TZNAME:EST
DTSTART:20261101T060000
END:STANDARD
END:VTIMEZONE
BEGIN:VEVENT
DTSTART;TZID=America/New_York:20250926T193000
DTEND;TZID=America/New_York:20250926T230000
DTSTAMP:20260422T171303
CREATED:20250904T174717Z
LAST-MODIFIED:20250904T174717Z
UID:37143-1758915000-1758927600@pickeringtononline.com
SUMMARY:Experience The Haunted Farm
DESCRIPTION:Get ready for a night of farm-fresh fear as you enter the old Watson family farm\, now known as The Haunted Farm. Discover the origins of the Pleasantville property\, and learn about The Haunted Farm’s eerie past. Experience the farm come to life this spooky season as creatures of all-kinds lurk about the farmstead. The Haunted Farm is opening September 26th and 27th\, and will be open every Friday & Saturday in October until November 1st. Tours begin at 7:30 p.m. and the last tour of the night departs at 11 p.m. – each tour is 30 minutes long. \nShare this:\n				Share on Facebook (Opens in new window)\n				Facebook\n			\n				Share on LinkedIn (Opens in new window)\n				LinkedIn\n			\n				Share on Threads (Opens in new window)\n				Threads\n			\n				Share on X (Opens in new window)\n				X\n			Like this:Like Loading...
URL:https://pickeringtononline.com/event/experience-the-haunted-farm/
LOCATION:The Haunted Farm\, 5450 Old Millersport Road Northeast\, Pleasantville\, OH\, 43148\, United States
CATEGORIES:Community Event,Informative Event,Outdoor Activity
END:VEVENT
END:VCALENDAR