BEGIN:VCALENDAR
VERSION:2.0
PRODID:-//Pickerington Online - ECPv6.15.20//NONSGML v1.0//EN
CALSCALE:GREGORIAN
METHOD:PUBLISH
X-ORIGINAL-URL:https://pickeringtononline.com
X-WR-CALDESC:Events for Pickerington Online
REFRESH-INTERVAL;VALUE=DURATION:PT1H
X-Robots-Tag:noindex
X-PUBLISHED-TTL:PT1H
BEGIN:VTIMEZONE
TZID:America/New_York
BEGIN:DAYLIGHT
TZOFFSETFROM:-0500
TZOFFSETTO:-0400
TZNAME:EDT
DTSTART:20240310T070000
END:DAYLIGHT
BEGIN:STANDARD
TZOFFSETFROM:-0400
TZOFFSETTO:-0500
TZNAME:EST
DTSTART:20241103T060000
END:STANDARD
BEGIN:DAYLIGHT
TZOFFSETFROM:-0500
TZOFFSETTO:-0400
TZNAME:EDT
DTSTART:20250309T070000
END:DAYLIGHT
BEGIN:STANDARD
TZOFFSETFROM:-0400
TZOFFSETTO:-0500
TZNAME:EST
DTSTART:20251102T060000
END:STANDARD
BEGIN:DAYLIGHT
TZOFFSETFROM:-0500
TZOFFSETTO:-0400
TZNAME:EDT
DTSTART:20260308T070000
END:DAYLIGHT
BEGIN:STANDARD
TZOFFSETFROM:-0400
TZOFFSETTO:-0500
TZNAME:EST
DTSTART:20261101T060000
END:STANDARD
END:VTIMEZONE
BEGIN:VEVENT
DTSTART;TZID=America/New_York:20250905T110000
DTEND;TZID=America/New_York:20250905T120000
DTSTAMP:20260419T185054
CREATED:20250825T184328Z
LAST-MODIFIED:20250825T184328Z
UID:36972-1757070000-1757073600@pickeringtononline.com
SUMMARY:Tykes on Trail: Bug Catching (Mambourg Park)
DESCRIPTION:Spiders\, ants\, and moths – oh my! Get your toddlers outside with nets and containers (provided)\, and let’s see what we can catch. Be prepared for a short hike. \nShare this:\n				Share on Facebook (Opens in new window)\n				Facebook\n			\n				Share on LinkedIn (Opens in new window)\n				LinkedIn\n			\n				Share on Threads (Opens in new window)\n				Threads\n			\n				Share on X (Opens in new window)\n				X\n			Like this:Like Loading...
URL:https://pickeringtononline.com/event/tykes-on-trail-bug-catching-mambourg-park/
LOCATION:Mambourg Park\, 5531 Cincinnati-Zanesville Rd NE (US-22)\, Lancaster\, OH\, 43130\, United States
CATEGORIES:Community Event,Event for Young Children,Informative Event,Outdoor Activity
ORGANIZER;CN="Fairfield County Park District":MAILTO:kcaito@fairfieldcountyparks.org
END:VEVENT
BEGIN:VEVENT
DTSTART;TZID=America/New_York:20250907T130000
DTEND;TZID=America/New_York:20250907T143000
DTSTAMP:20260419T185054
CREATED:20250825T184550Z
LAST-MODIFIED:20250825T184550Z
UID:36975-1757250000-1757255400@pickeringtononline.com
SUMMARY:Discovery Hike: Late Bloomers (Wahkeena Nature Preserve)
DESCRIPTION:The final wildflowers of the year line the sunny edges of the wetlands\, forest\, and open meadows.  These flowers are a valuable source of energy for insects preparing for the coming of winter.  Find out why yellow goldenrods are not the main cause of allergies and why it was once revered as a medicinal plant.  Other interesting folklore will be discussed. \nShare this:\n				Share on Facebook (Opens in new window)\n				Facebook\n			\n				Share on LinkedIn (Opens in new window)\n				LinkedIn\n			\n				Share on Threads (Opens in new window)\n				Threads\n			\n				Share on X (Opens in new window)\n				X\n			Like this:Like Loading...
URL:https://pickeringtononline.com/event/discovery-hike-late-bloomers-wahkeena-nature-preserve/
LOCATION:Wahkeena Nature Preserve\, 2200 Pump Station Road\, Sugar Grove\, OH\, 43155\, United States
CATEGORIES:Community Event,Informative Event,Outdoor Activity
ORGANIZER;CN="Fairfield County Park District":MAILTO:kcaito@fairfieldcountyparks.org
END:VEVENT
BEGIN:VEVENT
DTSTART;TZID=America/New_York:20250913T110000
DTEND;TZID=America/New_York:20250914T160000
DTSTAMP:20260419T185054
CREATED:20250825T185129Z
LAST-MODIFIED:20250825T185129Z
UID:36981-1757761200-1757865600@pickeringtononline.com
SUMMARY:Harvest Celebration! 2025 (Smeck Park)
DESCRIPTION:Watch as members of Fairfield County Antique Tractor Club bring in the crops using early farm machinery.  Share in some of the work such as bagging just-dug potatoes\, pick and shuck maize or popcorn\, then take home some of the fresh goodies!  Pick your own pumpkin and gourd – one each\, please. \nThere will be activities and games for all ages\, demonstrations\, displays\, vendors\, music\, and food trucks.  Come\, have fun with us! \nShare this:\n				Share on Facebook (Opens in new window)\n				Facebook\n			\n				Share on LinkedIn (Opens in new window)\n				LinkedIn\n			\n				Share on Threads (Opens in new window)\n				Threads\n			\n				Share on X (Opens in new window)\n				X\n			Like this:Like Loading...
URL:https://pickeringtononline.com/event/harvest-celebration-2025-smeck-park/
LOCATION:Smeck Park\, 7395 Basil Rd\, Baltimore\, OH\, 43105\, United States
CATEGORIES:Community Event,Outdoor Activity
ORGANIZER;CN="Fairfield County Anique Tractor Club":MAILTO:info@fairfieldcountytractorclub.com
END:VEVENT
BEGIN:VEVENT
DTSTART;TZID=America/New_York:20250926T193000
DTEND;TZID=America/New_York:20250926T230000
DTSTAMP:20260419T185054
CREATED:20250904T174717Z
LAST-MODIFIED:20250904T174717Z
UID:37143-1758915000-1758927600@pickeringtononline.com
SUMMARY:Experience The Haunted Farm
DESCRIPTION:Get ready for a night of farm-fresh fear as you enter the old Watson family farm\, now known as The Haunted Farm. Discover the origins of the Pleasantville property\, and learn about The Haunted Farm’s eerie past. Experience the farm come to life this spooky season as creatures of all-kinds lurk about the farmstead. The Haunted Farm is opening September 26th and 27th\, and will be open every Friday & Saturday in October until November 1st. Tours begin at 7:30 p.m. and the last tour of the night departs at 11 p.m. – each tour is 30 minutes long. \nShare this:\n				Share on Facebook (Opens in new window)\n				Facebook\n			\n				Share on LinkedIn (Opens in new window)\n				LinkedIn\n			\n				Share on Threads (Opens in new window)\n				Threads\n			\n				Share on X (Opens in new window)\n				X\n			Like this:Like Loading...
URL:https://pickeringtononline.com/event/experience-the-haunted-farm/
LOCATION:The Haunted Farm\, 5450 Old Millersport Road Northeast\, Pleasantville\, OH\, 43148\, United States
CATEGORIES:Community Event,Informative Event,Outdoor Activity
END:VEVENT
END:VCALENDAR