BEGIN:VCALENDAR
VERSION:2.0
PRODID:-//Pickerington Online - ECPv6.15.20//NONSGML v1.0//EN
CALSCALE:GREGORIAN
METHOD:PUBLISH
X-ORIGINAL-URL:https://pickeringtononline.com
X-WR-CALDESC:Events for Pickerington Online
REFRESH-INTERVAL;VALUE=DURATION:PT1H
X-Robots-Tag:noindex
X-PUBLISHED-TTL:PT1H
BEGIN:VTIMEZONE
TZID:America/New_York
BEGIN:DAYLIGHT
TZOFFSETFROM:-0500
TZOFFSETTO:-0400
TZNAME:EDT
DTSTART:20240310T070000
END:DAYLIGHT
BEGIN:STANDARD
TZOFFSETFROM:-0400
TZOFFSETTO:-0500
TZNAME:EST
DTSTART:20241103T060000
END:STANDARD
BEGIN:DAYLIGHT
TZOFFSETFROM:-0500
TZOFFSETTO:-0400
TZNAME:EDT
DTSTART:20250309T070000
END:DAYLIGHT
BEGIN:STANDARD
TZOFFSETFROM:-0400
TZOFFSETTO:-0500
TZNAME:EST
DTSTART:20251102T060000
END:STANDARD
BEGIN:DAYLIGHT
TZOFFSETFROM:-0500
TZOFFSETTO:-0400
TZNAME:EDT
DTSTART:20260308T070000
END:DAYLIGHT
BEGIN:STANDARD
TZOFFSETFROM:-0400
TZOFFSETTO:-0500
TZNAME:EST
DTSTART:20261101T060000
END:STANDARD
END:VTIMEZONE
BEGIN:VEVENT
DTSTART;TZID=America/New_York:20250802T110000
DTEND;TZID=America/New_York:20250802T130000
DTSTAMP:20260420T095556
CREATED:20250706T143346Z
LAST-MODIFIED:20250706T143346Z
UID:35564-1754132400-1754139600@pickeringtononline.com
SUMMARY:Pond Exploration (Mambourg Park)
DESCRIPTION:What do you think of when you think about pond animals?  Copepods?  Ostracods?  Yeah\, probably not.  In this program\, we’re rooting for the little guys who make a pond suitable for fish\, turtles\, frogs\, and birds.  Then\, we’ll go outside to see what we can find in the pond. \nShare this:\n				Share on Facebook (Opens in new window)\n				Facebook\n			\n				Share on LinkedIn (Opens in new window)\n				LinkedIn\n			\n				Share on Threads (Opens in new window)\n				Threads\n			\n				Share on X (Opens in new window)\n				X\n			Like this:Like Loading...
URL:https://pickeringtononline.com/event/pond-exploration-mambourg-park/
LOCATION:Mambourg Park\, 5531 Cincinnati-Zanesville Rd NE (US-22)\, Lancaster\, OH\, 43130\, United States
CATEGORIES:Community Event,Informative Event,Outdoor Activity
ORGANIZER;CN="Fairfield County Park District":MAILTO:kcaito@fairfieldcountyparks.org
END:VEVENT
BEGIN:VEVENT
DTSTART;TZID=America/New_York:20250808T180000
DTEND;TZID=America/New_York:20250808T200000
DTSTAMP:20260420T095556
CREATED:20250728T192102Z
LAST-MODIFIED:20250728T192102Z
UID:36437-1754676000-1754683200@pickeringtononline.com
SUMMARY:Night at the Nature Center
DESCRIPTION:Join Mambourg Park anytime between 6:00-7:00 to check out the nature center\, meet the critters\, and enjoy some light refreshments! \nThere will be an optional one-mile-long night hike starting at 7:00.  Consider bringing insect repellent and/or wear a long-sleeved shirt. \nShare this:\n				Share on Facebook (Opens in new window)\n				Facebook\n			\n				Share on LinkedIn (Opens in new window)\n				LinkedIn\n			\n				Share on Threads (Opens in new window)\n				Threads\n			\n				Share on X (Opens in new window)\n				X\n			Like this:Like Loading...
URL:https://pickeringtononline.com/event/night-at-the-nature-center/
LOCATION:Mambourg Park\, 5531 Cincinnati-Zanesville Rd NE (US-22)\, Lancaster\, OH\, 43130\, United States
CATEGORIES:Community Event,Informative Event,Outdoor Activity
ORGANIZER;CN="Fairfield County Park District":MAILTO:kcaito@fairfieldcountyparks.org
END:VEVENT
BEGIN:VEVENT
DTSTART;TZID=America/New_York:20250809T093000
DTEND;TZID=America/New_York:20250809T170000
DTSTAMP:20260420T095556
CREATED:20250721T152121Z
LAST-MODIFIED:20250721T152121Z
UID:36130-1754731800-1754758800@pickeringtononline.com
SUMMARY:Annual Buckeye Lake Pub Paddle
DESCRIPTION:The Buckeye Lake Pub Paddle is an annual “bar crawl on boats” charitable event. Not only is it a fun day out on the water\, but you will support local Buckeye Lake businesses. Stayed tuned for more details\, or follow the Buckeye Lake Pub Paddle on Facebook. \nShare this:\n				Share on Facebook (Opens in new window)\n				Facebook\n			\n				Share on LinkedIn (Opens in new window)\n				LinkedIn\n			\n				Share on Threads (Opens in new window)\n				Threads\n			\n				Share on X (Opens in new window)\n				X\n			Like this:Like Loading...
URL:https://pickeringtononline.com/event/annual-buckeye-lake-pub-paddle/
LOCATION:OH
CATEGORIES:21 and Over,Community Event,Outdoor Activity
END:VEVENT
BEGIN:VEVENT
DTSTART;TZID=America/New_York:20250815T130000
DTEND;TZID=America/New_York:20250815T150000
DTSTAMP:20260420T095556
CREATED:20250512T211516Z
LAST-MODIFIED:20250512T211516Z
UID:33445-1755262800-1755270000@pickeringtononline.com
SUMMARY:Invaders Among Us
DESCRIPTION:Did you know that some of your favorites plants may be harming our ecosystem!  After a brief presentation about invasive plants\, we will hike about 1.5 miles to search for and identify a few of the common culprits.  Learn about native choices to replace the ‘invaders’ in  your yard. \nSuggested Audience\nAdults\, Ages 18+ \nWhere to Meet\nMeet just before 1:00 p.m. in the nature center.  Note:  Do not bring pets to this program; read more about pets\, below. \nReceive Updates\nTo receive updates or reminders about this program\, click/tap “Interested” or “Going” on this event on Facebook. \nShare this:\n				Share on Facebook (Opens in new window)\n				Facebook\n			\n				Share on LinkedIn (Opens in new window)\n				LinkedIn\n			\n				Share on Threads (Opens in new window)\n				Threads\n			\n				Share on X (Opens in new window)\n				X\n			Like this:Like Loading...
URL:https://pickeringtononline.com/event/invaders-among-us-2/
LOCATION:Smeck Park\, 7395 Basil Rd\, Baltimore\, OH\, 43105\, United States
CATEGORIES:Community Event,Informative Event,Outdoor Activity
ORGANIZER;CN="Fairfield County Park District":MAILTO:kcaito@fairfieldcountyparks.org
END:VEVENT
BEGIN:VEVENT
DTSTART;TZID=America/New_York:20250816T203000
DTEND;TZID=America/New_York:20250816T223000
DTSTAMP:20260420T095556
CREATED:20250728T192355Z
LAST-MODIFIED:20250728T192355Z
UID:36441-1755376200-1755383400@pickeringtononline.com
SUMMARY:Moths 101
DESCRIPTION:Night is dark. Have you ever stopped to think about what colors are hidden in that darkness? No? Well\, do so tonight! We will learn about moths of Ohio\, their lives\, and how to look for them. You might be surprised by the array of colors we may find. \nShare this:\n				Share on Facebook (Opens in new window)\n				Facebook\n			\n				Share on LinkedIn (Opens in new window)\n				LinkedIn\n			\n				Share on Threads (Opens in new window)\n				Threads\n			\n				Share on X (Opens in new window)\n				X\n			Like this:Like Loading...
URL:https://pickeringtononline.com/event/moths-101/
LOCATION:Smeck Park\, 7395 Basil Rd\, Baltimore\, OH\, 43105\, United States
CATEGORIES:Community Event,Informative Event,Outdoor Activity
ORGANIZER;CN="Fairfield County Park District":MAILTO:kcaito@fairfieldcountyparks.org
END:VEVENT
END:VCALENDAR