BEGIN:VCALENDAR
VERSION:2.0
PRODID:-//Pickerington Online - ECPv6.15.20//NONSGML v1.0//EN
CALSCALE:GREGORIAN
METHOD:PUBLISH
X-WR-CALNAME:Pickerington Online
X-ORIGINAL-URL:https://pickeringtononline.com
X-WR-CALDESC:Events for Pickerington Online
REFRESH-INTERVAL;VALUE=DURATION:PT1H
X-Robots-Tag:noindex
X-PUBLISHED-TTL:PT1H
BEGIN:VTIMEZONE
TZID:America/New_York
BEGIN:DAYLIGHT
TZOFFSETFROM:-0500
TZOFFSETTO:-0400
TZNAME:EDT
DTSTART:20250309T070000
END:DAYLIGHT
BEGIN:STANDARD
TZOFFSETFROM:-0400
TZOFFSETTO:-0500
TZNAME:EST
DTSTART:20251102T060000
END:STANDARD
BEGIN:DAYLIGHT
TZOFFSETFROM:-0500
TZOFFSETTO:-0400
TZNAME:EDT
DTSTART:20260308T070000
END:DAYLIGHT
BEGIN:STANDARD
TZOFFSETFROM:-0400
TZOFFSETTO:-0500
TZNAME:EST
DTSTART:20261101T060000
END:STANDARD
BEGIN:DAYLIGHT
TZOFFSETFROM:-0500
TZOFFSETTO:-0400
TZNAME:EDT
DTSTART:20270314T070000
END:DAYLIGHT
BEGIN:STANDARD
TZOFFSETFROM:-0400
TZOFFSETTO:-0500
TZNAME:EST
DTSTART:20271107T060000
END:STANDARD
END:VTIMEZONE
BEGIN:VEVENT
DTSTART;TZID=America/New_York:20260401T123000
DTEND;TZID=America/New_York:20260401T130000
DTSTAMP:20260419T201351
CREATED:20260227T170540Z
LAST-MODIFIED:20260311T222622Z
UID:41120-1775046600-1775048400@pickeringtononline.com
SUMMARY:Discovery Pavilion: Grand Opening & Ribbon Cutting
DESCRIPTION:Celebrate this exciting new outdoor space for events\, programs\, and community connections. Help Violet cut the ribbon and be among the first to enjoy this new addition! \n\n\n\n\n\n\nPickerington Public Library is excited to invite customers to the Grand Opening and Ribbon-Cutting of Discovery Pavilion at Pickerington Main Library on April 1 at 12:30 p.m. \nBuilt over the last several months\, Discovery Pavilion is a brand-new outdoor gathering space designed to expand library programming\, host special events\, and create more opportunities for community connection. \nJoin us as we celebrate this milestone together and help Violet cut the ribbon to officially open this new space. Discovery Pavilion represents the library’s continued investment in creating welcoming places where learning\, creativity\, and community can thrive. \nIf you need accommodations for a class or event\, contact communications@pickeringtonlibrary.org or call 614-837-4104 ext. 221. \n\n\n\nShare this:\n				Share on Facebook (Opens in new window)\n				Facebook\n			\n				Share on LinkedIn (Opens in new window)\n				LinkedIn\n			\n				Share on Threads (Opens in new window)\n				Threads\n			\n				Share on X (Opens in new window)\n				X\n			Like this:Like Loading...
URL:https://pickeringtononline.com/event/discovery-pavilion-grand-opening-ribbon-cutting/
LOCATION:Pickerigton Public Library Main Branch\, 201 Opportunity Way\, Pickerington\, OH\, 43147\, United States
ORGANIZER;CN="Pickerington Public Library":MAILTO:cbauman@pickeringtonlibrary.org
END:VEVENT
END:VCALENDAR