BEGIN:VCALENDAR
VERSION:2.0
PRODID:-//Pickerington Online - ECPv6.15.20//NONSGML v1.0//EN
CALSCALE:GREGORIAN
METHOD:PUBLISH
X-ORIGINAL-URL:https://pickeringtononline.com
X-WR-CALDESC:Events for Pickerington Online
REFRESH-INTERVAL;VALUE=DURATION:PT1H
X-Robots-Tag:noindex
X-PUBLISHED-TTL:PT1H
BEGIN:VTIMEZONE
TZID:America/New_York
BEGIN:DAYLIGHT
TZOFFSETFROM:-0500
TZOFFSETTO:-0400
TZNAME:EDT
DTSTART:20250309T070000
END:DAYLIGHT
BEGIN:STANDARD
TZOFFSETFROM:-0400
TZOFFSETTO:-0500
TZNAME:EST
DTSTART:20251102T060000
END:STANDARD
BEGIN:DAYLIGHT
TZOFFSETFROM:-0500
TZOFFSETTO:-0400
TZNAME:EDT
DTSTART:20260308T070000
END:DAYLIGHT
BEGIN:STANDARD
TZOFFSETFROM:-0400
TZOFFSETTO:-0500
TZNAME:EST
DTSTART:20261101T060000
END:STANDARD
BEGIN:DAYLIGHT
TZOFFSETFROM:-0500
TZOFFSETTO:-0400
TZNAME:EDT
DTSTART:20270314T070000
END:DAYLIGHT
BEGIN:STANDARD
TZOFFSETFROM:-0400
TZOFFSETTO:-0500
TZNAME:EST
DTSTART:20271107T060000
END:STANDARD
END:VTIMEZONE
BEGIN:VEVENT
DTSTART;TZID=America/New_York:20260305T183000
DTEND;TZID=America/New_York:20260305T193000
DTSTAMP:20260422T115413
CREATED:20260227T160511Z
LAST-MODIFIED:20260227T160511Z
UID:41091-1772735400-1772739000@pickeringtononline.com
SUMMARY:Standing in the Question
DESCRIPTION:We all face times when life feels uncertain\, and it’s hard to know what to do next. Coach and storyteller Kristen Peairs shares her own journey of change using a simple illustrated story. \n\n\n\n\n\n\nYou’ll see how slowing down\, reflecting\, and looking at your situation in a new way can bring clarity and confidence for your next steps. \nAfter you leave you’ll be able to… \n\nSee your situation in a new light – using simple illustrations that help you reflect and gain clarity.\nFeel steadier in uncertain times – knowing how to slow down and notice your next steps.\nStep forward with confidence – with tools to navigate change with calm and clarity.\n\n\n\n\nShare this:\n				Share on Facebook (Opens in new window)\n				Facebook\n			\n				Share on LinkedIn (Opens in new window)\n				LinkedIn\n			\n				Share on Threads (Opens in new window)\n				Threads\n			\n				Share on X (Opens in new window)\n				X\n			Like this:Like Loading...
URL:https://pickeringtononline.com/event/standing-in-the-question/
LOCATION:Pickerigton Public Library Main Branch\, 201 Opportunity Way\, Pickerington\, OH\, 43147\, United States
CATEGORIES:Community Event,Informative Event
ORGANIZER;CN="Pickerington Public Library":MAILTO:cbauman@pickeringtonlibrary.org
END:VEVENT
END:VCALENDAR