BEGIN:VCALENDAR
VERSION:2.0
PRODID:-//Pickerington Online - ECPv6.15.20//NONSGML v1.0//EN
CALSCALE:GREGORIAN
METHOD:PUBLISH
X-WR-CALNAME:Pickerington Online
X-ORIGINAL-URL:https://pickeringtononline.com
X-WR-CALDESC:Events for Pickerington Online
REFRESH-INTERVAL;VALUE=DURATION:PT1H
X-Robots-Tag:noindex
X-PUBLISHED-TTL:PT1H
BEGIN:VTIMEZONE
TZID:America/New_York
BEGIN:DAYLIGHT
TZOFFSETFROM:-0500
TZOFFSETTO:-0400
TZNAME:EDT
DTSTART:20240310T070000
END:DAYLIGHT
BEGIN:STANDARD
TZOFFSETFROM:-0400
TZOFFSETTO:-0500
TZNAME:EST
DTSTART:20241103T060000
END:STANDARD
BEGIN:DAYLIGHT
TZOFFSETFROM:-0500
TZOFFSETTO:-0400
TZNAME:EDT
DTSTART:20250309T070000
END:DAYLIGHT
BEGIN:STANDARD
TZOFFSETFROM:-0400
TZOFFSETTO:-0500
TZNAME:EST
DTSTART:20251102T060000
END:STANDARD
BEGIN:DAYLIGHT
TZOFFSETFROM:-0500
TZOFFSETTO:-0400
TZNAME:EDT
DTSTART:20260308T070000
END:DAYLIGHT
BEGIN:STANDARD
TZOFFSETFROM:-0400
TZOFFSETTO:-0500
TZNAME:EST
DTSTART:20261101T060000
END:STANDARD
END:VTIMEZONE
BEGIN:VEVENT
DTSTART;TZID=America/New_York:20250912T090000
DTEND;TZID=America/New_York:20250914T170000
DTSTAMP:20260420T153948
CREATED:20250904T173131Z
LAST-MODIFIED:20250904T173131Z
UID:37132-1757667600-1757869200@pickeringtononline.com
SUMMARY:Harvest & Harmony Festival
DESCRIPTION:Join everyone at Natural Creations Greenhouse for their first ever celebration of the end of summer and welcoming the new season. A community gathering with live music\, food and artisan vendors\, special sales on plants\, giveaways\, and more will be available. You don’t want to miss it! \nShare this:\n				Share on Facebook (Opens in new window)\n				Facebook\n			\n				Share on LinkedIn (Opens in new window)\n				LinkedIn\n			\n				Share on Threads (Opens in new window)\n				Threads\n			\n				Share on X (Opens in new window)\n				X\n			Like this:Like Loading...
URL:https://pickeringtononline.com/event/harvest-harmony-festival/
LOCATION:Natural Creations Greenhouse\, 2008 Old Logan Road Southeast\, Lancaster\, OH\, 43130\, United States
CATEGORIES:Community Event,Outdoor Activity
END:VEVENT
BEGIN:VEVENT
DTSTART;TZID=America/New_York:20250919T210000
DTEND;TZID=America/New_York:20250919T234500
DTSTAMP:20260420T153948
CREATED:20250825T190220Z
LAST-MODIFIED:20250825T190220Z
UID:36990-1758315600-1758325500@pickeringtononline.com
SUMMARY:The Wizard of Oz
DESCRIPTION:Frank Baum’s classic novel comes to life in The Wizard of Oz.  This faithful adaptation by the Royal Shakespeare Company features all the most beloved songs and moments from the 1939 classic film\, brought to life onstage.  \n\n  \nYoung Dorothy Gale is swept away by a tornado from her Kansas farm to the magical land of Oz.  There\, she encounters a host of whimsical characters: good witches\, bad witches\, animals that talk\, scarecrows that walk\, and things magical to behold.  To find her way home\, she must journey along the Yellow Brick Road to see the mysterious and all-powerful Wizard in Emerald City.  Along the way\, she makes new friends\, but must also brave many dangers\, including the Wicked Witch of the West\, who will stop at nothing to get her hands on Dorothy’s magical ruby slippers.  To make it home safely\, Dorothy must learn an important lesson: there’s no place like home. \nShare this:\n				Share on Facebook (Opens in new window)\n				Facebook\n			\n				Share on LinkedIn (Opens in new window)\n				LinkedIn\n			\n				Share on Threads (Opens in new window)\n				Threads\n			\n				Share on X (Opens in new window)\n				X\n			Like this:Like Loading...
URL:https://pickeringtononline.com/event/the-wizard-of-oz/
LOCATION:Crossroads Events Center
CATEGORIES:Community Event,Community Theater
END:VEVENT
BEGIN:VEVENT
DTSTART;TZID=America/New_York:20250920T133000
DTEND;TZID=America/New_York:20250920T161500
DTSTAMP:20260420T153948
CREATED:20250825T190419Z
LAST-MODIFIED:20250825T190419Z
UID:36993-1758375000-1758384900@pickeringtononline.com
SUMMARY:Wizard of Oz
DESCRIPTION:L Frank Baum’s classic novel comes to life in The Wizard of Oz.  This faithful adaptation by the Royal Shakespeare Company features all the most beloved songs and moments from the 1939 classic film\, brought to life onstage.   \nYoung Dorothy Gale is swept away by a tornado from her Kansas farm to the magical land of Oz.  There\, she encounters a host of whimsical characters: good witches\, bad witches\, animals that talk\, scarecrows that walk\, and things magical to behold.  To find her way home\, she must journey along the Yellow Brick Road to see the mysterious and all-powerful Wizard in Emerald City.  Along the way\, she makes new friends\, but must also brave many dangers\, including the Wicked Witch of the West\, who will stop at nothing to get her hands on Dorothy’s magical ruby slippers.  To make it home safely\, Dorothy must learn an important lesson: there’s no place like home. \nShare this:\n				Share on Facebook (Opens in new window)\n				Facebook\n			\n				Share on LinkedIn (Opens in new window)\n				LinkedIn\n			\n				Share on Threads (Opens in new window)\n				Threads\n			\n				Share on X (Opens in new window)\n				X\n			Like this:Like Loading...
URL:https://pickeringtononline.com/event/wizard-of-oz/
LOCATION:Crossroads Events Center
CATEGORIES:Community Event,Community Theater
END:VEVENT
BEGIN:VEVENT
DTSTART;TZID=America/New_York:20250920T190000
DTEND;TZID=America/New_York:20250920T214500
DTSTAMP:20260420T153948
CREATED:20250825T190611Z
LAST-MODIFIED:20250825T190611Z
UID:36996-1758394800-1758404700@pickeringtononline.com
SUMMARY:Wizard of Oz
DESCRIPTION:L Frank Baum’s classic novel comes to life in The Wizard of Oz.  This faithful adaptation by the Royal Shakespeare Company features all the most beloved songs and moments from the 1939 classic film\, brought to life onstage.   \n  \nYoung Dorothy Gale is swept away by a tornado from her Kansas farm to the magical land of Oz.  There\, she encounters a host of whimsical characters: good witches\, bad witches\, animals that talk\, scarecrows that walk\, and things magical to behold.  To find her way home\, she must journey along the Yellow Brick Road to see the mysterious and all-powerful Wizard in Emerald City.  Along the way\, she makes new friends\, but must also brave many dangers\, including the Wicked Witch of the West\, who will stop at nothing to get her hands on Dorothy’s magical ruby slippers.  To make it home safely\, Dorothy must learn an important lesson: there’s no place like home. \nShare this:\n				Share on Facebook (Opens in new window)\n				Facebook\n			\n				Share on LinkedIn (Opens in new window)\n				LinkedIn\n			\n				Share on Threads (Opens in new window)\n				Threads\n			\n				Share on X (Opens in new window)\n				X\n			Like this:Like Loading...
URL:https://pickeringtononline.com/event/wizard-of-oz-2/
LOCATION:Crossroads Events Center
CATEGORIES:Community Event,Community Theater
END:VEVENT
BEGIN:VEVENT
DTSTART;TZID=America/New_York:20250921T160000
DTEND;TZID=America/New_York:20250921T184500
DTSTAMP:20260420T153948
CREATED:20250825T231319Z
LAST-MODIFIED:20250825T231319Z
UID:36999-1758470400-1758480300@pickeringtononline.com
SUMMARY:The Wizard of Oz
DESCRIPTION:L Frank Baum’s classic novel comes to life in The Wizard of Oz.  This faithful adaptation by the Royal Shakespeare Company features all the most beloved songs and moments from the 1939 classic film\, brought to life onstage.   \n  \nYoung Dorothy Gale is swept away by a tornado from her Kansas farm to the magical land of Oz.  There\, she encounters a host of whimsical characters: good witches\, bad witches\, animals that talk\, scarecrows that walk\, and things magical to behold.  To find her way home\, she must journey along the Yellow Brick Road to see the mysterious and all-powerful Wizard in Emerald City.  Along the way\, she makes new friends\, but must also brave many dangers\, including the Wicked Witch of the West\, who will stop at nothing to get her hands on Dorothy’s magical ruby slippers.  To make it home safely\, Dorothy must learn an important lesson: there’s no place like home. \nShare this:\n				Share on Facebook (Opens in new window)\n				Facebook\n			\n				Share on LinkedIn (Opens in new window)\n				LinkedIn\n			\n				Share on Threads (Opens in new window)\n				Threads\n			\n				Share on X (Opens in new window)\n				X\n			Like this:Like Loading...
URL:https://pickeringtononline.com/event/the-wizard-of-oz-2/
LOCATION:Crossroads Events Center
CATEGORIES:Community Event,Community Theater
END:VEVENT
BEGIN:VEVENT
DTSTART;TZID=America/New_York:20250923T193000
DTEND;TZID=America/New_York:20250923T210000
DTSTAMP:20260420T153948
CREATED:20250825T185632Z
LAST-MODIFIED:20250825T185632Z
UID:36987-1758655800-1758661200@pickeringtononline.com
SUMMARY:Captivating Caterpillars (Mambourg Park)
DESCRIPTION:It glows in the dark\, eats like there is no tomorrow\, and transforms before your very eyes.  That is no alien.  It’s a caterpillar!  Come to learn about these cool critters\, followed by a hike to search for them in their natural habitat. \nShare this:\n				Share on Facebook (Opens in new window)\n				Facebook\n			\n				Share on LinkedIn (Opens in new window)\n				LinkedIn\n			\n				Share on Threads (Opens in new window)\n				Threads\n			\n				Share on X (Opens in new window)\n				X\n			Like this:Like Loading...
URL:https://pickeringtononline.com/event/captivating-caterpillars-mambourg-park/
LOCATION:Mambourg Park\, 5531 Cincinnati-Zanesville Rd NE (US-22)\, Lancaster\, OH\, 43130\, United States
CATEGORIES:Community Event,Informative Event,Outdoor Activity
ORGANIZER;CN="Fairfield County Park District":MAILTO:kcaito@fairfieldcountyparks.org
END:VEVENT
BEGIN:VEVENT
DTSTART;TZID=America/New_York:20250926T190000
DTEND;TZID=America/New_York:20250926T214500
DTSTAMP:20260420T153948
CREATED:20250825T231454Z
LAST-MODIFIED:20250825T231454Z
UID:37002-1758913200-1758923100@pickeringtononline.com
SUMMARY:The Wizard of Oz
DESCRIPTION:L Frank Baum’s classic novel comes to life in The Wizard of Oz.  This faithful adaptation by the Royal Shakespeare Company features all the most beloved songs and moments from the 1939 classic film\, brought to life onstage.   \n  \nYoung Dorothy Gale is swept away by a tornado from her Kansas farm to the magical land of Oz.  There\, she encounters a host of whimsical characters: good witches\, bad witches\, animals that talk\, scarecrows that walk\, and things magical to behold.  To find her way home\, she must journey along the Yellow Brick Road to see the mysterious and all-powerful Wizard in Emerald City.  Along the way\, she makes new friends\, but must also brave many dangers\, including the Wicked Witch of the West\, who will stop at nothing to get her hands on Dorothy’s magical ruby slippers.  To make it home safely\, Dorothy must learn an important lesson: there’s no place like home. \nShare this:\n				Share on Facebook (Opens in new window)\n				Facebook\n			\n				Share on LinkedIn (Opens in new window)\n				LinkedIn\n			\n				Share on Threads (Opens in new window)\n				Threads\n			\n				Share on X (Opens in new window)\n				X\n			Like this:Like Loading...
URL:https://pickeringtononline.com/event/the-wizard-of-oz-3/
LOCATION:Crossroads Events Center
CATEGORIES:Community Event,Community Theater
END:VEVENT
BEGIN:VEVENT
DTSTART;TZID=America/New_York:20250927T133000
DTEND;TZID=America/New_York:20250927T161500
DTSTAMP:20260420T153948
CREATED:20250825T231631Z
LAST-MODIFIED:20250825T231631Z
UID:37005-1758979800-1758989700@pickeringtononline.com
SUMMARY:The Wizard of Oz
DESCRIPTION:L Frank Baum’s classic novel comes to life in The Wizard of Oz.  This faithful adaptation by the Royal Shakespeare Company features all the most beloved songs and moments from the 1939 classic film\, brought to life onstage.   \n  \nYoung Dorothy Gale is swept away by a tornado from her Kansas farm to the magical land of Oz.  There\, she encounters a host of whimsical characters: good witches\, bad witches\, animals that talk\, scarecrows that walk\, and things magical to behold.  To find her way home\, she must journey along the Yellow Brick Road to see the mysterious and all-powerful Wizard in Emerald City.  Along the way\, she makes new friends\, but must also brave many dangers\, including the Wicked Witch of the West\, who will stop at nothing to get her hands on Dorothy’s magical ruby slippers.  To make it home safely\, Dorothy must learn an important lesson: there’s no place like home. \nShare this:\n				Share on Facebook (Opens in new window)\n				Facebook\n			\n				Share on LinkedIn (Opens in new window)\n				LinkedIn\n			\n				Share on Threads (Opens in new window)\n				Threads\n			\n				Share on X (Opens in new window)\n				X\n			Like this:Like Loading...
URL:https://pickeringtononline.com/event/the-wizard-of-oz-4/
LOCATION:Crossroads Events Center
CATEGORIES:Community Event,Community Theater
END:VEVENT
BEGIN:VEVENT
DTSTART;TZID=America/New_York:20250927T190000
DTEND;TZID=America/New_York:20250927T214500
DTSTAMP:20260420T153948
CREATED:20250825T231804Z
LAST-MODIFIED:20250825T231804Z
UID:37008-1758999600-1759009500@pickeringtononline.com
SUMMARY:The Wizard of Oz
DESCRIPTION:L Frank Baum’s classic novel comes to life in The Wizard of Oz.  This faithful adaptation by the Royal Shakespeare Company features all the most beloved songs and moments from the 1939 classic film\, brought to life onstage.   \n  \nYoung Dorothy Gale is swept away by a tornado from her Kansas farm to the magical land of Oz.  There\, she encounters a host of whimsical characters: good witches\, bad witches\, animals that talk\, scarecrows that walk\, and things magical to behold.  To find her way home\, she must journey along the Yellow Brick Road to see the mysterious and all-powerful Wizard in Emerald City.  Along the way\, she makes new friends\, but must also brave many dangers\, including the Wicked Witch of the West\, who will stop at nothing to get her hands on Dorothy’s magical ruby slippers.  To make it home safely\, Dorothy must learn an important lesson: there’s no place like home. \nShare this:\n				Share on Facebook (Opens in new window)\n				Facebook\n			\n				Share on LinkedIn (Opens in new window)\n				LinkedIn\n			\n				Share on Threads (Opens in new window)\n				Threads\n			\n				Share on X (Opens in new window)\n				X\n			Like this:Like Loading...
URL:https://pickeringtononline.com/event/the-wizard-of-oz-5/
LOCATION:Crossroads Events Center
CATEGORIES:Community Event,Community Theater
END:VEVENT
BEGIN:VEVENT
DTSTART;TZID=America/New_York:20250928T140000
DTEND;TZID=America/New_York:20250928T164500
DTSTAMP:20260420T153948
CREATED:20250825T231946Z
LAST-MODIFIED:20250825T231946Z
UID:37011-1759068000-1759077900@pickeringtononline.com
SUMMARY:The Wizard of Oz
DESCRIPTION:L Frank Baum’s classic novel comes to life in The Wizard of Oz.  This faithful adaptation by the Royal Shakespeare Company features all the most beloved songs and moments from the 1939 classic film\, brought to life onstage.   \n  \nYoung Dorothy Gale is swept away by a tornado from her Kansas farm to the magical land of Oz.  There\, she encounters a host of whimsical characters: good witches\, bad witches\, animals that talk\, scarecrows that walk\, and things magical to behold.  To find her way home\, she must journey along the Yellow Brick Road to see the mysterious and all-powerful Wizard in Emerald City.  Along the way\, she makes new friends\, but must also brave many dangers\, including the Wicked Witch of the West\, who will stop at nothing to get her hands on Dorothy’s magical ruby slippers.  To make it home safely\, Dorothy must learn an important lesson: there’s no place like home. \nShare this:\n				Share on Facebook (Opens in new window)\n				Facebook\n			\n				Share on LinkedIn (Opens in new window)\n				LinkedIn\n			\n				Share on Threads (Opens in new window)\n				Threads\n			\n				Share on X (Opens in new window)\n				X\n			Like this:Like Loading...
URL:https://pickeringtononline.com/event/the-wizard-of-oz-6/
LOCATION:Crossroads Events Center
CATEGORIES:Community Event,Community Theater
END:VEVENT
END:VCALENDAR