BEGIN:VCALENDAR
VERSION:2.0
PRODID:-//Pickerington Online - ECPv6.15.20//NONSGML v1.0//EN
CALSCALE:GREGORIAN
METHOD:PUBLISH
X-ORIGINAL-URL:https://pickeringtononline.com
X-WR-CALDESC:Events for Pickerington Online
REFRESH-INTERVAL;VALUE=DURATION:PT1H
X-Robots-Tag:noindex
X-PUBLISHED-TTL:PT1H
BEGIN:VTIMEZONE
TZID:America/New_York
BEGIN:DAYLIGHT
TZOFFSETFROM:-0500
TZOFFSETTO:-0400
TZNAME:EDT
DTSTART:20240310T070000
END:DAYLIGHT
BEGIN:STANDARD
TZOFFSETFROM:-0400
TZOFFSETTO:-0500
TZNAME:EST
DTSTART:20241103T060000
END:STANDARD
BEGIN:DAYLIGHT
TZOFFSETFROM:-0500
TZOFFSETTO:-0400
TZNAME:EDT
DTSTART:20250309T070000
END:DAYLIGHT
BEGIN:STANDARD
TZOFFSETFROM:-0400
TZOFFSETTO:-0500
TZNAME:EST
DTSTART:20251102T060000
END:STANDARD
BEGIN:DAYLIGHT
TZOFFSETFROM:-0500
TZOFFSETTO:-0400
TZNAME:EDT
DTSTART:20260308T070000
END:DAYLIGHT
BEGIN:STANDARD
TZOFFSETFROM:-0400
TZOFFSETTO:-0500
TZNAME:EST
DTSTART:20261101T060000
END:STANDARD
END:VTIMEZONE
BEGIN:VEVENT
DTSTART;TZID=America/New_York:20250801T173000
DTEND;TZID=America/New_York:20250801T183000
DTSTAMP:20260420T131752
CREATED:20250721T151542Z
LAST-MODIFIED:20250721T151542Z
UID:36124-1754069400-1754073000@pickeringtononline.com
SUMMARY:Bike Races for Kids
DESCRIPTION:Decorate your wheels\, grab your helmet and head to the Job & Family Services parking lot for bike races especially for kids during the Lancaster Festival! Prizes for best bike decorations and for race winners. Race age ranges: 4 and under\, 5-6\, 7-8 and 9-10; divided into boys and girls groups. \nShare this:\n				Share on Facebook (Opens in new window)\n				Facebook\n			\n				Share on LinkedIn (Opens in new window)\n				LinkedIn\n			\n				Share on Threads (Opens in new window)\n				Threads\n			\n				Share on X (Opens in new window)\n				X\n			Like this:Like Loading...
URL:https://pickeringtononline.com/event/bike-races-for-kids/
LOCATION:Job & Family Services Parking Lot\, 239 West Main Street\, Lancaster\, OH\, 43130\, United States
CATEGORIES:Community Event,Event for Young Children,Outdoor Activity
ORGANIZER;CN="Lancaster Festival":MAILTO:info@lancasterfestival.org
END:VEVENT
BEGIN:VEVENT
DTSTART;TZID=America/New_York:20250802T110000
DTEND;TZID=America/New_York:20250802T130000
DTSTAMP:20260420T131752
CREATED:20250706T143346Z
LAST-MODIFIED:20250706T143346Z
UID:35564-1754132400-1754139600@pickeringtononline.com
SUMMARY:Pond Exploration (Mambourg Park)
DESCRIPTION:What do you think of when you think about pond animals?  Copepods?  Ostracods?  Yeah\, probably not.  In this program\, we’re rooting for the little guys who make a pond suitable for fish\, turtles\, frogs\, and birds.  Then\, we’ll go outside to see what we can find in the pond. \nShare this:\n				Share on Facebook (Opens in new window)\n				Facebook\n			\n				Share on LinkedIn (Opens in new window)\n				LinkedIn\n			\n				Share on Threads (Opens in new window)\n				Threads\n			\n				Share on X (Opens in new window)\n				X\n			Like this:Like Loading...
URL:https://pickeringtononline.com/event/pond-exploration-mambourg-park/
LOCATION:Mambourg Park\, 5531 Cincinnati-Zanesville Rd NE (US-22)\, Lancaster\, OH\, 43130\, United States
CATEGORIES:Community Event,Informative Event,Outdoor Activity
ORGANIZER;CN="Fairfield County Park District":MAILTO:kcaito@fairfieldcountyparks.org
END:VEVENT
BEGIN:VEVENT
DTSTART;TZID=America/New_York:20250802T180000
DTEND;TZID=America/New_York:20250802T190000
DTSTAMP:20260420T131752
CREATED:20250706T143620Z
LAST-MODIFIED:20250706T143620Z
UID:35567-1754157600-1754161200@pickeringtononline.com
SUMMARY:Rad Raptors (Mambourg Park)
DESCRIPTION:Raptor – dinosaur or bird?  Maybe both?  Learn about the amazing raptors of Ohio!  Light refreshments will be available. \nShare this:\n				Share on Facebook (Opens in new window)\n				Facebook\n			\n				Share on LinkedIn (Opens in new window)\n				LinkedIn\n			\n				Share on Threads (Opens in new window)\n				Threads\n			\n				Share on X (Opens in new window)\n				X\n			Like this:Like Loading...
URL:https://pickeringtononline.com/event/rad-raptors-mambourg-park/
LOCATION:Mambourg Park\, 5531 Cincinnati-Zanesville Rd NE (US-22)\, Lancaster\, OH\, 43130\, United States
CATEGORIES:Community Event,Informative Event,Outdoor Activity
ORGANIZER;CN="Fairfield County Park District":MAILTO:kcaito@fairfieldcountyparks.org
END:VEVENT
BEGIN:VEVENT
DTSTART;TZID=America/New_York:20250808T190000
DTEND;TZID=America/New_York:20250808T220000
DTSTAMP:20260420T131752
CREATED:20250722T134851Z
LAST-MODIFIED:20250722T134851Z
UID:36161-1754679600-1754690400@pickeringtononline.com
SUMMARY:A Midsummer Nights Dream
DESCRIPTION:Four Athenians run away to the forest only to have Puck the fairy make both of the boys fall in love with the same girl. \nShare this:\n				Share on Facebook (Opens in new window)\n				Facebook\n			\n				Share on LinkedIn (Opens in new window)\n				LinkedIn\n			\n				Share on Threads (Opens in new window)\n				Threads\n			\n				Share on X (Opens in new window)\n				X\n			Like this:Like Loading...
URL:https://pickeringtononline.com/event/a-midsummer-nights-dream/
LOCATION:Crossroads Events Center
CATEGORIES:Community Event,Community Theater
END:VEVENT
BEGIN:VEVENT
DTSTART;TZID=America/New_York:20250809T190000
DTEND;TZID=America/New_York:20250809T220000
DTSTAMP:20260420T131752
CREATED:20250722T135048Z
LAST-MODIFIED:20250722T135048Z
UID:36164-1754766000-1754776800@pickeringtononline.com
SUMMARY:A Midsummer Nights Dream
DESCRIPTION:Four Athenians run away to the forest only to have Puck the fairy make both of the boys fall in love with the same girl. \nShare this:\n				Share on Facebook (Opens in new window)\n				Facebook\n			\n				Share on LinkedIn (Opens in new window)\n				LinkedIn\n			\n				Share on Threads (Opens in new window)\n				Threads\n			\n				Share on X (Opens in new window)\n				X\n			Like this:Like Loading...
URL:https://pickeringtononline.com/event/a-midsummer-nights-dream-2/
LOCATION:Crossroads Events Center
CATEGORIES:Community Event,Community Theater
END:VEVENT
BEGIN:VEVENT
DTSTART;TZID=America/New_York:20250810T160000
DTEND;TZID=America/New_York:20250810T190000
DTSTAMP:20260420T131752
CREATED:20250722T135256Z
LAST-MODIFIED:20250722T135256Z
UID:36167-1754841600-1754852400@pickeringtononline.com
SUMMARY:A Midsummer Nights Dream
DESCRIPTION:Four Athenians run away to the forest only to have Puck the fairy make both of the boys fall in love with the same girl. \nShare this:\n				Share on Facebook (Opens in new window)\n				Facebook\n			\n				Share on LinkedIn (Opens in new window)\n				LinkedIn\n			\n				Share on Threads (Opens in new window)\n				Threads\n			\n				Share on X (Opens in new window)\n				X\n			Like this:Like Loading...
URL:https://pickeringtononline.com/event/a-midsummer-nights-dream-3/
LOCATION:Crossroads Events Center
CATEGORIES:Community Event,Community Theater
END:VEVENT
END:VCALENDAR