BEGIN:VCALENDAR
VERSION:2.0
PRODID:-//Pickerington Online - ECPv6.15.20//NONSGML v1.0//EN
CALSCALE:GREGORIAN
METHOD:PUBLISH
X-ORIGINAL-URL:https://pickeringtononline.com
X-WR-CALDESC:Events for Pickerington Online
REFRESH-INTERVAL;VALUE=DURATION:PT1H
X-Robots-Tag:noindex
X-PUBLISHED-TTL:PT1H
BEGIN:VTIMEZONE
TZID:America/New_York
BEGIN:DAYLIGHT
TZOFFSETFROM:-0500
TZOFFSETTO:-0400
TZNAME:EDT
DTSTART:20240310T070000
END:DAYLIGHT
BEGIN:STANDARD
TZOFFSETFROM:-0400
TZOFFSETTO:-0500
TZNAME:EST
DTSTART:20241103T060000
END:STANDARD
BEGIN:DAYLIGHT
TZOFFSETFROM:-0500
TZOFFSETTO:-0400
TZNAME:EDT
DTSTART:20250309T070000
END:DAYLIGHT
BEGIN:STANDARD
TZOFFSETFROM:-0400
TZOFFSETTO:-0500
TZNAME:EST
DTSTART:20251102T060000
END:STANDARD
BEGIN:DAYLIGHT
TZOFFSETFROM:-0500
TZOFFSETTO:-0400
TZNAME:EDT
DTSTART:20260308T070000
END:DAYLIGHT
BEGIN:STANDARD
TZOFFSETFROM:-0400
TZOFFSETTO:-0500
TZNAME:EST
DTSTART:20261101T060000
END:STANDARD
END:VTIMEZONE
BEGIN:VEVENT
DTSTART;TZID=America/New_York:20251025T180000
DTEND;TZID=America/New_York:20251026T193000
DTSTAMP:20260423T043929
CREATED:20251020T191719Z
LAST-MODIFIED:20251020T191719Z
UID:38207-1761415200-1761507000@pickeringtononline.com
SUMMARY:Historic Ghost Tours in Canal Winchester
DESCRIPTION:Friday & Saturday\, October 24–25\, 2025 \nCanal Winchester’s past comes to life during the Historic Ghost Tours\, where visitors meet some of the city’s ghostly history makers. The 90-minute walking tours begin at 6 p.m. each evening\, with 20 slots available every 10 minutes. \nNew this year\, a special bus tour will be offered on Friday\, October 24\, beginning at 6 p.m. and accommodating up to 10 guests. \nAll tours depart from the Canal Winchester Historical Complex\, 10 W. Oak Street. Tickets are $10 per person\, and children under 5 are free. The final tour departs at 7:30 p.m. \nTickets may be purchased online through the Canal Winchester Historical Society at canalwinchesterhistoricalsociety.as.me/schedule/e1565dbf. \nShare this:\n				Share on Facebook (Opens in new window)\n				Facebook\n			\n				Share on LinkedIn (Opens in new window)\n				LinkedIn\n			\n				Share on Threads (Opens in new window)\n				Threads\n			\n				Share on X (Opens in new window)\n				X\n			Like this:Like Loading...
URL:https://pickeringtononline.com/event/historic-ghost-tours-in-canal-winchester/
LOCATION:Canal Winchester Historical Society\, 10 W Oak St\, Canal Winchester\, OH\, 43110\, United States
CATEGORIES:Community Event,Outdoor Activity
END:VEVENT
END:VCALENDAR