BEGIN:VCALENDAR
VERSION:2.0
PRODID:-//Pickerington Online - ECPv6.15.20//NONSGML v1.0//EN
CALSCALE:GREGORIAN
METHOD:PUBLISH
X-WR-CALNAME:Pickerington Online
X-ORIGINAL-URL:https://pickeringtononline.com
X-WR-CALDESC:Events for Pickerington Online
REFRESH-INTERVAL;VALUE=DURATION:PT1H
X-Robots-Tag:noindex
X-PUBLISHED-TTL:PT1H
BEGIN:VTIMEZONE
TZID:UTC
BEGIN:STANDARD
TZOFFSETFROM:+0000
TZOFFSETTO:+0000
TZNAME:UTC
DTSTART:20200101T000000
END:STANDARD
END:VTIMEZONE
BEGIN:VEVENT
DTSTART;TZID=UTC:20211004T050000
DTEND;TZID=UTC:20211004T190000
DTSTAMP:20260420T161026
CREATED:20210928T225144Z
LAST-MODIFIED:20210928T225144Z
UID:3636-1633323600-1633374000@pickeringtononline.com
SUMMARY:How to build & maintain a healthy pond
DESCRIPTION:Get all your questions about ponds answered!\nThis workshop is bringing the best resources regarding ponds together in one place. Experts will present on such topics as building and maintaining healthy ponds\, fish stocking\, and wildlife management. Weather permitting\, the West Licking Fire Department will demonstrate a dry hydrant and Fairfield Soil & Water will show us how a Hydrone boat is used to inspect commercial retention ponds. \nShare this:\n				Share on Facebook (Opens in new window)\n				Facebook\n			\n				Share on LinkedIn (Opens in new window)\n				LinkedIn\n			\n				Share on Threads (Opens in new window)\n				Threads\n			\n				Share on X (Opens in new window)\n				X\n			Like this:Like Loading...
URL:https://pickeringtononline.com/event/how-to-build-maintain-a-healthy-pond/
LOCATION:Howard Enswiler Conference Center\, 13167 Morse Road SW\, Pataskala\, OH\, 43062\, United States
CATEGORIES:Informative Event
ORGANIZER;CN="Licking SWCD":MAILTO:information@lickingswcd.com
END:VEVENT
END:VCALENDAR