BEGIN:VCALENDAR
VERSION:2.0
PRODID:-//Pickerington Online - ECPv6.15.20//NONSGML v1.0//EN
CALSCALE:GREGORIAN
METHOD:PUBLISH
X-ORIGINAL-URL:https://pickeringtononline.com
X-WR-CALDESC:Events for Pickerington Online
REFRESH-INTERVAL;VALUE=DURATION:PT1H
X-Robots-Tag:noindex
X-PUBLISHED-TTL:PT1H
BEGIN:VTIMEZONE
TZID:America/New_York
BEGIN:DAYLIGHT
TZOFFSETFROM:-0500
TZOFFSETTO:-0400
TZNAME:EDT
DTSTART:20240310T070000
END:DAYLIGHT
BEGIN:STANDARD
TZOFFSETFROM:-0400
TZOFFSETTO:-0500
TZNAME:EST
DTSTART:20241103T060000
END:STANDARD
BEGIN:DAYLIGHT
TZOFFSETFROM:-0500
TZOFFSETTO:-0400
TZNAME:EDT
DTSTART:20250309T070000
END:DAYLIGHT
BEGIN:STANDARD
TZOFFSETFROM:-0400
TZOFFSETTO:-0500
TZNAME:EST
DTSTART:20251102T060000
END:STANDARD
BEGIN:DAYLIGHT
TZOFFSETFROM:-0500
TZOFFSETTO:-0400
TZNAME:EDT
DTSTART:20260308T070000
END:DAYLIGHT
BEGIN:STANDARD
TZOFFSETFROM:-0400
TZOFFSETTO:-0500
TZNAME:EST
DTSTART:20261101T060000
END:STANDARD
END:VTIMEZONE
BEGIN:VEVENT
DTSTART;TZID=America/New_York:20250510T100000
DTEND;TZID=America/New_York:20250510T120000
DTSTAMP:20260420T014053
CREATED:20250316T214842Z
LAST-MODIFIED:20250316T214842Z
UID:31366-1746871200-1746878400@pickeringtononline.com
SUMMARY:Touch-A-Truck
DESCRIPTION:Come by the Pickerington Community Pool parking lot to see all your favorite trucks and equipment. Kids will be able to see the ins and outs of all vehicle and receive a free Kids Driver’s License. \nShare this:\n				Share on Facebook (Opens in new window)\n				Facebook\n			\n				Share on LinkedIn (Opens in new window)\n				LinkedIn\n			\n				Share on Threads (Opens in new window)\n				Threads\n			\n				Share on X (Opens in new window)\n				X\n			Like this:Like Loading...
URL:https://pickeringtononline.com/event/touch-a-truck/
LOCATION:Pickerington Community Pool\, 11330 Stonecreek Dr\, Pickerington\, OH\, 43147\, United States
CATEGORIES:Community Event,Event for Young Children,Informative Event,Outdoor Activity
ORGANIZER;CN="Pickerington Parks & Recreation":MAILTO:rmedinger@pickerington.net &lt;rmedinger@pickerington.net
END:VEVENT
BEGIN:VEVENT
DTSTART;TZID=America/New_York:20250510T140000
DTEND;TZID=America/New_York:20250510T170000
DTSTAMP:20260420T014053
CREATED:20250504T115737Z
LAST-MODIFIED:20250504T115737Z
UID:33065-1746885600-1746896400@pickeringtononline.com
SUMMARY:Spring Tram
DESCRIPTION:Ride Hop on the tram to learn more about the cultural and natural history of Blacklick Woods on this tour. \nMeet in the Ash Grove Picnic Area. \nShare this:\n				Share on Facebook (Opens in new window)\n				Facebook\n			\n				Share on LinkedIn (Opens in new window)\n				LinkedIn\n			\n				Share on Threads (Opens in new window)\n				Threads\n			\n				Share on X (Opens in new window)\n				X\n			Like this:Like Loading...
URL:https://pickeringtononline.com/event/spring-tram/
LOCATION:Blacklick Woods\, 6975 E. Livingston Ave.\, Reynoldsburg\, OH\, 43068\, United States
CATEGORIES:Community Event,Informative Event,Outdoor Activity
END:VEVENT
END:VCALENDAR