BEGIN:VCALENDAR
VERSION:2.0
PRODID:-//Pickerington Online - ECPv6.15.20//NONSGML v1.0//EN
CALSCALE:GREGORIAN
METHOD:PUBLISH
X-WR-CALNAME:Pickerington Online
X-ORIGINAL-URL:https://pickeringtononline.com
X-WR-CALDESC:Events for Pickerington Online
REFRESH-INTERVAL;VALUE=DURATION:PT1H
X-Robots-Tag:noindex
X-PUBLISHED-TTL:PT1H
BEGIN:VTIMEZONE
TZID:America/New_York
BEGIN:DAYLIGHT
TZOFFSETFROM:-0500
TZOFFSETTO:-0400
TZNAME:EDT
DTSTART:20240310T070000
END:DAYLIGHT
BEGIN:STANDARD
TZOFFSETFROM:-0400
TZOFFSETTO:-0500
TZNAME:EST
DTSTART:20241103T060000
END:STANDARD
BEGIN:DAYLIGHT
TZOFFSETFROM:-0500
TZOFFSETTO:-0400
TZNAME:EDT
DTSTART:20250309T070000
END:DAYLIGHT
BEGIN:STANDARD
TZOFFSETFROM:-0400
TZOFFSETTO:-0500
TZNAME:EST
DTSTART:20251102T060000
END:STANDARD
BEGIN:DAYLIGHT
TZOFFSETFROM:-0500
TZOFFSETTO:-0400
TZNAME:EDT
DTSTART:20260308T070000
END:DAYLIGHT
BEGIN:STANDARD
TZOFFSETFROM:-0400
TZOFFSETTO:-0500
TZNAME:EST
DTSTART:20261101T060000
END:STANDARD
END:VTIMEZONE
BEGIN:VEVENT
DTSTART;TZID=America/New_York:20250710T163000
DTEND;TZID=America/New_York:20250712T235900
DTSTAMP:20260420T005259
CREATED:20250506T192744Z
LAST-MODIFIED:20250506T192744Z
UID:33169-1752165000-1752364740@pickeringtononline.com
SUMMARY:Picktown Palooza 2025
DESCRIPTION:Picktown Palooza is a three-day celebration of community\, music\, and entertainment designed for adults 18 and older. With an exciting national entertainment lineup\, a diverse selection of food vendors\, the Freedom 5K\, a vibrant beer garden\, Vendor Village\, and the popular car\, truck & bike show\, the Palooza offers an unforgettable experience. While the event is tailored for an adult audience\, minors under 18 are welcome when accompanied by a paying adult. The event location is 300 Opportunity Way\, Pickerington\, OH 43147. \nThursday\, July 10\n4:30 PM – Palooza grounds open \n4:30 PM – 11:00 PM – The entire festival is open for exploration! \n5:30 PM – 11:00 PM – Entertainment on the main stage; Charlie Bonnet III and the Gasholes\, Ted Poley of Danger Danger\, Rockett Mafia featuring Rikki Rockett of Poison. \n11:00 PM – Palooza grounds close \n  \n  \n\nFriday\, July 11\n4:30 PM – Palooza grounds open \n4:30 PM – 12:00 AM – The entire festival is open for exploration! \n5:30 PM – 11:00 PM – Entertainment on the main stage; Britny Fox\, Black ‘N Blue\, Mike Tramp’s White Lion. \n12:00 AM – Palooza grounds close \n  \n       \n\nSaturday\, July 12\n7:15 AM – Freedom 5k day of event registration \n8:30 AM – OrthoNeuro Freedom 5k (taking place in downtown Pickerington by City Hall) \n11:00 AM – 2:00 PM – Car\, Truck & Bike Show Registration \n2:00 PM – Palooza grounds open \n2:00 PM – 12:00 AM –  The entire festival is open for exploration! \n4:00 PM – Car\, Truck & Bike Show awards announced \n3:30 PM – 11:00 PM – Entertainment on the main stage; Sabbath Knights\, LIttle Caesar\, Trixter\, Jackyl \n7:00 PM – Community Ceremonies with National Anthem \n12:00 AM – Palooza grounds close \nShare this:\n				Share on Facebook (Opens in new window)\n				Facebook\n			\n				Share on LinkedIn (Opens in new window)\n				LinkedIn\n			\n				Share on Threads (Opens in new window)\n				Threads\n			\n				Share on X (Opens in new window)\n				X\n			Like this:Like Loading...
URL:https://pickeringtononline.com/event/picktown-palooza-2025/
LOCATION:Pickerington Central High School\, 300 Opportunity Way\, Pickerington\, OH\, 43147\, United States
CATEGORIES:21 and Over,Community Event,Outdoor Activity
END:VEVENT
BEGIN:VEVENT
DTSTART;TZID=America/New_York:20250712T100000
DTEND;TZID=America/New_York:20250712T120000
DTSTAMP:20260420T005259
CREATED:20250706T141346Z
LAST-MODIFIED:20250706T141346Z
UID:35543-1752314400-1752321600@pickeringtononline.com
SUMMARY:BUGology! (Smeck Park)
DESCRIPTION:We will set out on a hike to search for bugs in different habitats – forest\, pond\, field – to see what lives in each. After collecting bugs using nets or our hands\, we will put them in containers and study them!  An expedition that is fun for the whole family! \nShare this:\n				Share on Facebook (Opens in new window)\n				Facebook\n			\n				Share on LinkedIn (Opens in new window)\n				LinkedIn\n			\n				Share on Threads (Opens in new window)\n				Threads\n			\n				Share on X (Opens in new window)\n				X\n			Like this:Like Loading...
URL:https://pickeringtononline.com/event/bugology-smeck-park/
LOCATION:Smeck Park\, 7395 Basil Rd\, Baltimore\, OH\, 43105\, United States
CATEGORIES:Community Event,Informative Event,Outdoor Activity
ORGANIZER;CN="Fairfield County Park District":MAILTO:kcaito@fairfieldcountyparks.org
END:VEVENT
BEGIN:VEVENT
DTSTART;TZID=America/New_York:20250712T100000
DTEND;TZID=America/New_York:20250712T120000
DTSTAMP:20260420T005259
CREATED:20250706T200756Z
LAST-MODIFIED:20250706T200756Z
UID:35590-1752314400-1752321600@pickeringtononline.com
SUMMARY:Fly Fishing for Beginners
DESCRIPTION:Learn the basics of fly fishing at Clear Creek Metro Park. Equipment provided. Meet at the Fern Parking Lot\, 22937 Clear Creek Road in Rockbridge (39.59007\, -82.59188). \nShare this:\n				Share on Facebook (Opens in new window)\n				Facebook\n			\n				Share on LinkedIn (Opens in new window)\n				LinkedIn\n			\n				Share on Threads (Opens in new window)\n				Threads\n			\n				Share on X (Opens in new window)\n				X\n			Like this:Like Loading...
URL:https://pickeringtononline.com/event/fly-fishing-for-beginners-3/
LOCATION:Clear Creek Metro Park\, 185 Clear Creek Rd\, Lancaster\, OH\, 43130\, United States
CATEGORIES:Community Event,Informative Event,Outdoor Activity
END:VEVENT
BEGIN:VEVENT
DTSTART;TZID=America/New_York:20250712T110000
DTEND;TZID=America/New_York:20250712T123000
DTSTAMP:20260420T005259
CREATED:20250515T150929Z
LAST-MODIFIED:20250515T150929Z
UID:33693-1752318000-1752323400@pickeringtononline.com
SUMMARY:Capturing Better Photos
DESCRIPTION:Unlock the secrets to capturing beautiful shots—right from your smartphone. \n\n\n\n\n\n\nDo the photos that you take with your smartphone end up blurry\, too dark\, too light\, or just don’t seem like they look right? Join Tech Trainer Daniel to explore more about how the basics of photography can help you capture life moments. \nIn this workshop\, expect to: \n\nLearn about the basics of photography fundamentals\nConnect photography fundamentals with how your smartphone camera works\nEngage with other tools on your smartphone to understand how to use them to capture moments in your life\n\nStart capturing moments in your life better! \n\n\n\nShare this:\n				Share on Facebook (Opens in new window)\n				Facebook\n			\n				Share on LinkedIn (Opens in new window)\n				LinkedIn\n			\n				Share on Threads (Opens in new window)\n				Threads\n			\n				Share on X (Opens in new window)\n				X\n			Like this:Like Loading...
URL:https://pickeringtononline.com/event/capturing-better-photos/
LOCATION:Pickerington Library Sycamore Plaza\, 7861 Refugee Road\, Pickerington\, OH\, 43147\, United States
CATEGORIES:Community Event,Informative Event
ORGANIZER;CN="Pickerington Public Library":MAILTO:cbauman@pickeringtonlibrary.org
END:VEVENT
BEGIN:VEVENT
DTSTART;TZID=America/New_York:20250712T110000
DTEND;TZID=America/New_York:20250712T160000
DTSTAMP:20260420T005259
CREATED:20250408T201124Z
LAST-MODIFIED:20250408T201124Z
UID:32228-1752318000-1752336000@pickeringtononline.com
SUMMARY:Car\, Truck & Bike Show Sponsored by Don Shaffer & The Shaffer Team
DESCRIPTION:The Picktown Palooza Car\, Truck & Bike Show sponsored by Don Shaffer & The Shaffer Team\, Howard Hanna Real Estate Services\, is a fabulous display of classic and antique cars\, trucks and motorcycles! All models welcome!\nBeing held Saturday\, July 12\, 2025\, at Pickerington High School Central parking lot\, 300 Opportunity Way\, Pickerington\, OH 43147.\nThe Show is open for viewing from 11:00 am until 4:00 pm. Awards will be announced between 3:00 pm – 4:00 pm depending on when judging is complete.\nRegistration Fee is $15 per entry. Registration 11:00 am – 2:00 pm. Please pay in cash at registration on the day of the event. Hosted by C-Town Cruisers.\nAwards:Dash plaques to the first 50 registeredTrophies to the Top PicksPICKTOWN PALOOZA FAVORITE 30\nShare this:\n				Share on Facebook (Opens in new window)\n				Facebook\n			\n				Share on LinkedIn (Opens in new window)\n				LinkedIn\n			\n				Share on Threads (Opens in new window)\n				Threads\n			\n				Share on X (Opens in new window)\n				X\n			Like this:Like Loading...
URL:https://pickeringtononline.com/event/car-truck-bike-show-sponsored-by-don-shaffer-the-shaffer-team/
LOCATION:Pickerington Central High School\, 300 Opportunity Way\, Pickerington\, OH\, 43147\, United States
CATEGORIES:Community Event
END:VEVENT
BEGIN:VEVENT
DTSTART;TZID=America/New_York:20250712T210000
DTEND;TZID=America/New_York:20250712T235900
DTSTAMP:20260420T005259
CREATED:20250706T141624Z
LAST-MODIFIED:20250706T141715Z
UID:35546-1752354000-1752364740@pickeringtononline.com
SUMMARY:Midnight Mothing Foray (Wahkeena Nature Preserve)
DESCRIPTION:One thousand species of moths are found in Ohio\, and over 300 call Wahkeena home! Join naturalists for a midnight mothing foray where visitors can mill between the mothing sheet outdoors to a selection of live native Ohio caterpillars on display inside the nature center. \nShare this:\n				Share on Facebook (Opens in new window)\n				Facebook\n			\n				Share on LinkedIn (Opens in new window)\n				LinkedIn\n			\n				Share on Threads (Opens in new window)\n				Threads\n			\n				Share on X (Opens in new window)\n				X\n			Like this:Like Loading...
URL:https://pickeringtononline.com/event/midnight-mothing-foray-wahkeena-nature-preserve/
LOCATION:Wahkeena Nature Preserve\, 2200 Pump Station Road\, Sugar Grove\, OH\, 43155\, United States
CATEGORIES:Community Event,Informative Event,Outdoor Activity
ORGANIZER;CN="Fairfield County Park District":MAILTO:kcaito@fairfieldcountyparks.org
END:VEVENT
END:VCALENDAR