BEGIN:VCALENDAR
VERSION:2.0
PRODID:-//Pickerington Online - ECPv6.15.20//NONSGML v1.0//EN
CALSCALE:GREGORIAN
METHOD:PUBLISH
X-ORIGINAL-URL:https://pickeringtononline.com
X-WR-CALDESC:Events for Pickerington Online
REFRESH-INTERVAL;VALUE=DURATION:PT1H
X-Robots-Tag:noindex
X-PUBLISHED-TTL:PT1H
BEGIN:VTIMEZONE
TZID:America/New_York
BEGIN:DAYLIGHT
TZOFFSETFROM:-0500
TZOFFSETTO:-0400
TZNAME:EDT
DTSTART:20240310T070000
END:DAYLIGHT
BEGIN:STANDARD
TZOFFSETFROM:-0400
TZOFFSETTO:-0500
TZNAME:EST
DTSTART:20241103T060000
END:STANDARD
BEGIN:DAYLIGHT
TZOFFSETFROM:-0500
TZOFFSETTO:-0400
TZNAME:EDT
DTSTART:20250309T070000
END:DAYLIGHT
BEGIN:STANDARD
TZOFFSETFROM:-0400
TZOFFSETTO:-0500
TZNAME:EST
DTSTART:20251102T060000
END:STANDARD
BEGIN:DAYLIGHT
TZOFFSETFROM:-0500
TZOFFSETTO:-0400
TZNAME:EDT
DTSTART:20260308T070000
END:DAYLIGHT
BEGIN:STANDARD
TZOFFSETFROM:-0400
TZOFFSETTO:-0500
TZNAME:EST
DTSTART:20261101T060000
END:STANDARD
END:VTIMEZONE
BEGIN:VEVENT
DTSTART;TZID=America/New_York:20250619T090000
DTEND;TZID=America/New_York:20250619T143000
DTSTAMP:20260422T171223
CREATED:20250510T220113Z
LAST-MODIFIED:20250510T220113Z
UID:33379-1750323600-1750343400@pickeringtononline.com
SUMMARY:FREE YOUTH EYE EXAMS & GLASSES - Connexion West
DESCRIPTION:Connexion West is hosting another FREE youth eye exams and glasses! Happening on June 19th. \n \nShare this:\n				Share on Facebook (Opens in new window)\n				Facebook\n			\n				Share on LinkedIn (Opens in new window)\n				LinkedIn\n			\n				Share on Threads (Opens in new window)\n				Threads\n			\n				Share on X (Opens in new window)\n				X\n			Like this:Like Loading...
URL:https://pickeringtononline.com/event/free-youth-eye-exams-glasses-connexion-west/
LOCATION:Connexion West\, 625 Garfield Avenue\, Lancaster\, OH\, 43130\, United States
CATEGORIES:Community Event
ORGANIZER;CN="Vision To Learn":MAILTO:bcook@connexionwest.org
END:VEVENT
BEGIN:VEVENT
DTSTART;TZID=America/New_York:20250619T160000
DTEND;TZID=America/New_York:20250619T190000
DTSTAMP:20260422T171223
CREATED:20250316T205123Z
LAST-MODIFIED:20250316T205123Z
UID:31283-1750348800-1750359600@pickeringtononline.com
SUMMARY:Pickerington Farmers' Market
DESCRIPTION:The Pickerington Farmers’ Market\, sponsored by the Olde Pickerington Village Business Association (PVA)\, is a dynamic community event open every Thursday\, 4-7pm\, June through September. The Market showcases fresh\, local Ohio grown produce & meats\, cottage foods\, artisan crafts and much more. \nShare this:\n				Share on Facebook (Opens in new window)\n				Facebook\n			\n				Share on LinkedIn (Opens in new window)\n				LinkedIn\n			\n				Share on Threads (Opens in new window)\n				Threads\n			\n				Share on X (Opens in new window)\n				X\n			Like this:Like Loading...
URL:https://pickeringtononline.com/event/pickerington-farmers-market-2/
LOCATION:Pickerington Village Farmers’ Market\, 89 North Center Street\, Pickerington\, OH\, 43147\, United States
CATEGORIES:21 and Over,Community Event,Event for Young Children,Outdoor Activity
END:VEVENT
END:VCALENDAR