BEGIN:VCALENDAR
VERSION:2.0
PRODID:-//Pickerington Online - ECPv6.15.20//NONSGML v1.0//EN
CALSCALE:GREGORIAN
METHOD:PUBLISH
X-ORIGINAL-URL:https://pickeringtononline.com
X-WR-CALDESC:Events for Pickerington Online
REFRESH-INTERVAL;VALUE=DURATION:PT1H
X-Robots-Tag:noindex
X-PUBLISHED-TTL:PT1H
BEGIN:VTIMEZONE
TZID:UTC
BEGIN:STANDARD
TZOFFSETFROM:+0000
TZOFFSETTO:+0000
TZNAME:UTC
DTSTART:20210101T000000
END:STANDARD
END:VTIMEZONE
BEGIN:VEVENT
DTSTART;TZID=UTC:20220824T103000
DTEND;TZID=UTC:20220824T113000
DTSTAMP:20260423T201854
CREATED:20220825T220306Z
LAST-MODIFIED:20220825T220306Z
UID:11752-1661337000-1661340600@pickeringtononline.com
SUMMARY:We Need All the Crayons in the Crayon Box
DESCRIPTION:Featuring Joanie Calem\n\n\n\n\n\n\n\n\n\nSaturday\, September 24\n10:30am – 11:15am\n\n\n\n\n\n\n\n\n\nAtrium\, Meeting Room A\n\n\n\n\n\n\n\n\nMusic to celebrate what makes everyone unique! \n\n\n\n\n\n\nBuilding a kind world starts with how we treat each other. We may look the same but be very different inside\, and we may look different but be very similar inside. Using songs\, stories\, and games\, Joanie will lead us on a fun\, interactive journey of appreciating those around us. \nIf you need accommodations for a class or event\, contact communications@pickeringtonlibrary.org or call 614-837-4104 ext. 221. \n\n\n\n  \nShare this:\n				Share on Facebook (Opens in new window)\n				Facebook\n			\n				Share on LinkedIn (Opens in new window)\n				LinkedIn\n			\n				Share on Threads (Opens in new window)\n				Threads\n			\n				Share on X (Opens in new window)\n				X\n			Like this:Like Loading...
URL:https://pickeringtononline.com/event/we-need-all-the-crayons-in-the-crayon-box/
LOCATION:Pickerigton Public Library Main Branch\, 201 Opportunity Way\, Pickerington\, OH\, 43147\, United States
CATEGORIES:Event for Young Children
ORGANIZER;CN="Pickerington Public Library":MAILTO:cbauman@pickeringtonlibrary.org
END:VEVENT
END:VCALENDAR