BEGIN:VCALENDAR
VERSION:2.0
PRODID:-//Pickerington Online - ECPv6.15.20//NONSGML v1.0//EN
CALSCALE:GREGORIAN
METHOD:PUBLISH
X-WR-CALNAME:Pickerington Online
X-ORIGINAL-URL:https://pickeringtononline.com
X-WR-CALDESC:Events for Pickerington Online
REFRESH-INTERVAL;VALUE=DURATION:PT1H
X-Robots-Tag:noindex
X-PUBLISHED-TTL:PT1H
BEGIN:VTIMEZONE
TZID:UTC
BEGIN:STANDARD
TZOFFSETFROM:+0000
TZOFFSETTO:+0000
TZNAME:UTC
DTSTART:20210101T000000
END:STANDARD
END:VTIMEZONE
BEGIN:VEVENT
DTSTART;TZID=UTC:20220604T110000
DTEND;TZID=UTC:20220604T220000
DTSTAMP:20260421T023113
CREATED:20220213T043337Z
LAST-MODIFIED:20220213T043337Z
UID:6722-1654340400-1654380000@pickeringtononline.com
SUMMARY:Cruise\, Brews & Entertainment
DESCRIPTION:Car Registration: 11am – 2pm\nOfficial/Spectator Judging: 2pm – 4pm\nOn-Stage Awards/Trophies: 4:30ish\nFood Trucks: 11am – 10pm\nLive Bands/Activities: 11am – 10pm\nLimited sponsorship opportunities available\nContact me for more info: 614.774.9577\nMain Sponsor: Mark Wahlberg Chevrolet \nShare this:\n				Share on Facebook (Opens in new window)\n				Facebook\n			\n				Share on LinkedIn (Opens in new window)\n				LinkedIn\n			\n				Share on Threads (Opens in new window)\n				Threads\n			\n				Share on X (Opens in new window)\n				X\n			Like this:Like Loading...
URL:https://pickeringtononline.com/event/cruise-brews-entertainment/
LOCATION:Combustion Tap Room & Brewery\, 80 W Church S\, Pickerington\, OH\, 43147
CATEGORIES:Community Event
ORGANIZER;CN="Pickerington Lions Club":MAILTO:bfox1964@aol.com
END:VEVENT
END:VCALENDAR