BEGIN:VCALENDAR
VERSION:2.0
PRODID:-//Pickerington Online - ECPv6.15.20//NONSGML v1.0//EN
CALSCALE:GREGORIAN
METHOD:PUBLISH
X-ORIGINAL-URL:https://pickeringtononline.com
X-WR-CALDESC:Events for Pickerington Online
REFRESH-INTERVAL;VALUE=DURATION:PT1H
X-Robots-Tag:noindex
X-PUBLISHED-TTL:PT1H
BEGIN:VTIMEZONE
TZID:UTC
BEGIN:STANDARD
TZOFFSETFROM:+0000
TZOFFSETTO:+0000
TZNAME:UTC
DTSTART:20210101T000000
END:STANDARD
END:VTIMEZONE
BEGIN:VEVENT
DTSTART;TZID=UTC:20220210T160000
DTEND;TZID=UTC:20220210T170000
DTSTAMP:20260421T222421
CREATED:20220114T005240Z
LAST-MODIFIED:20220114T005240Z
UID:6541-1644508800-1644512400@pickeringtononline.com
SUMMARY:Teen Paint Night
DESCRIPTION:“Express your inner self at Teen Paint Night! Create a work of art fit for a museum\, or your own room. Either way\, we look forward to seeing you! You asked and we listened! You supply the ideas and creativity\, we will provide supplies. No registration is necessary.” \n\n\n\n\n\n\n  *While supplies last \n \n\n\n\nShare this:\n				Share on Facebook (Opens in new window)\n				Facebook\n			\n				Share on LinkedIn (Opens in new window)\n				LinkedIn\n			\n				Share on Threads (Opens in new window)\n				Threads\n			\n				Share on X (Opens in new window)\n				X\n			Like this:Like Loading...
URL:https://pickeringtononline.com/event/teen-paint-night/
LOCATION:Pickerigton Public Library Main Branch\, 201 Opportunity Way\, Pickerington\, OH\, 43147\, United States
CATEGORIES:Community Event
ORGANIZER;CN="Pickerington Public Library":MAILTO:cbauman@pickeringtonlibrary.org
END:VEVENT
END:VCALENDAR