BEGIN:VCALENDAR
VERSION:2.0
PRODID:-//Pickerington Online - ECPv6.15.20//NONSGML v1.0//EN
CALSCALE:GREGORIAN
METHOD:PUBLISH
X-ORIGINAL-URL:https://pickeringtononline.com
X-WR-CALDESC:Events for Pickerington Online
REFRESH-INTERVAL;VALUE=DURATION:PT1H
X-Robots-Tag:noindex
X-PUBLISHED-TTL:PT1H
BEGIN:VTIMEZONE
TZID:America/New_York
BEGIN:DAYLIGHT
TZOFFSETFROM:-0500
TZOFFSETTO:-0400
TZNAME:EDT
DTSTART:20230312T070000
END:DAYLIGHT
BEGIN:STANDARD
TZOFFSETFROM:-0400
TZOFFSETTO:-0500
TZNAME:EST
DTSTART:20231105T060000
END:STANDARD
BEGIN:DAYLIGHT
TZOFFSETFROM:-0500
TZOFFSETTO:-0400
TZNAME:EDT
DTSTART:20240310T070000
END:DAYLIGHT
BEGIN:STANDARD
TZOFFSETFROM:-0400
TZOFFSETTO:-0500
TZNAME:EST
DTSTART:20241103T060000
END:STANDARD
BEGIN:DAYLIGHT
TZOFFSETFROM:-0500
TZOFFSETTO:-0400
TZNAME:EDT
DTSTART:20250309T070000
END:DAYLIGHT
BEGIN:STANDARD
TZOFFSETFROM:-0400
TZOFFSETTO:-0500
TZNAME:EST
DTSTART:20251102T060000
END:STANDARD
END:VTIMEZONE
BEGIN:VEVENT
DTSTART;TZID=America/New_York:20240308T190000
DTEND;TZID=America/New_York:20240318T170000
DTSTAMP:20260424T110944
CREATED:20240125T194513Z
LAST-MODIFIED:20240125T194513Z
UID:22729-1709924400-1710781200@pickeringtononline.com
SUMMARY:Junie B. Jones PCT
DESCRIPTION:Share this:\n				Share on Facebook (Opens in new window)\n				Facebook\n			\n				Share on LinkedIn (Opens in new window)\n				LinkedIn\n			\n				Share on Threads (Opens in new window)\n				Threads\n			\n				Share on X (Opens in new window)\n				X\n			Like this:Like Loading...
URL:https://pickeringtononline.com/event/junie-b-jones-pct/
LOCATION:Violet Woods (formerly The Wigwam)\, 10190 Blacklick Eastern Road\, Pickerington\, OH\, 43147\, United States
ORGANIZER;CN="Pickerington Community Theatre":MAILTO:info@pctshows.com
END:VEVENT
BEGIN:VEVENT
DTSTART;TZID=America/New_York:20240315T030000
DTEND;TZID=America/New_York:20240315T180000
DTSTAMP:20260424T110945
CREATED:20240218T162415Z
LAST-MODIFIED:20240218T162415Z
UID:23318-1710471600-1710525600@pickeringtononline.com
SUMMARY:"Five Feet Apart" NEA Film Showing
DESCRIPTION:Share this:\n				Share on Facebook (Opens in new window)\n				Facebook\n			\n				Share on LinkedIn (Opens in new window)\n				LinkedIn\n			\n				Share on Threads (Opens in new window)\n				Threads\n			\n				Share on X (Opens in new window)\n				X\n			Like this:Like Loading...
URL:https://pickeringtononline.com/event/five-feet-apart-nea-film-showing/
LOCATION:Pickerigton Public Library Main Branch\, 201 Opportunity Way\, Pickerington\, OH\, 43147\, United States
ORGANIZER;CN="Pickerington Public Library":MAILTO:cbauman@pickeringtonlibrary.org
END:VEVENT
BEGIN:VEVENT
DTSTART;TZID=America/New_York:20240315T150000
DTEND;TZID=America/New_York:20240315T180000
DTSTAMP:20260424T110945
CREATED:20240218T162539Z
LAST-MODIFIED:20240218T162539Z
UID:23321-1710514800-1710525600@pickeringtononline.com
SUMMARY:"Five Feet Apart" NEA Film Showing
DESCRIPTION:Share this:\n				Share on Facebook (Opens in new window)\n				Facebook\n			\n				Share on LinkedIn (Opens in new window)\n				LinkedIn\n			\n				Share on Threads (Opens in new window)\n				Threads\n			\n				Share on X (Opens in new window)\n				X\n			Like this:Like Loading...
URL:https://pickeringtononline.com/event/five-feet-apart-nea-film-showing-2/
LOCATION:Pickerigton Public Library Main Branch\, 201 Opportunity Way\, Pickerington\, OH\, 43147\, United States
END:VEVENT
BEGIN:VEVENT
DTSTART;TZID=America/New_York:20240315T163000
DTEND;TZID=America/New_York:20240315T190000
DTSTAMP:20260424T110945
CREATED:20240130T013202Z
LAST-MODIFIED:20240130T013202Z
UID:22824-1710520200-1710529200@pickeringtononline.com
SUMMARY:Fish Fry - Seton Parish
DESCRIPTION:Share this:\n				Share on Facebook (Opens in new window)\n				Facebook\n			\n				Share on LinkedIn (Opens in new window)\n				LinkedIn\n			\n				Share on Threads (Opens in new window)\n				Threads\n			\n				Share on X (Opens in new window)\n				X\n			Like this:Like Loading...
URL:https://pickeringtononline.com/event/fish-fry-seton-parish-11/
LOCATION:Seton Parish\, 600 Hill Rd North\, Pickerington\, OH\, 43147\, United States
ORGANIZER;CN="Seton Parish":MAILTO:hello@setonparish.com
END:VEVENT
END:VCALENDAR