BEGIN:VCALENDAR
VERSION:2.0
PRODID:-//Pickerington Online - ECPv6.15.20//NONSGML v1.0//EN
CALSCALE:GREGORIAN
METHOD:PUBLISH
X-ORIGINAL-URL:https://pickeringtononline.com
X-WR-CALDESC:Events for Pickerington Online
REFRESH-INTERVAL;VALUE=DURATION:PT1H
X-Robots-Tag:noindex
X-PUBLISHED-TTL:PT1H
BEGIN:VTIMEZONE
TZID:UTC
BEGIN:STANDARD
TZOFFSETFROM:+0000
TZOFFSETTO:+0000
TZNAME:UTC
DTSTART:20220101T000000
END:STANDARD
END:VTIMEZONE
BEGIN:VEVENT
DTSTART;TZID=UTC:20230421T080000
DTEND;TZID=UTC:20230430T170000
DTSTAMP:20260424T055711
CREATED:20230206T002318Z
LAST-MODIFIED:20230206T002318Z
UID:15317-1682064000-1682874000@pickeringtononline.com
SUMMARY:Death by Chocolate
DESCRIPTION:Share this:\n				Share on Facebook (Opens in new window)\n				Facebook\n			\n				Share on LinkedIn (Opens in new window)\n				LinkedIn\n			\n				Share on Threads (Opens in new window)\n				Threads\n			\n				Share on X (Opens in new window)\n				X\n			Like this:Like Loading...
URL:https://pickeringtononline.com/event/death-by-chocolate/
LOCATION:The Wagnalls Memorial\, 150 East Columbus Street\, Lithopolis\, OH\, 43136\, United States
ORGANIZER;CN="The Wagnalls Memorial":MAILTO:waginfo@wagnalls.org
END:VEVENT
BEGIN:VEVENT
DTSTART;TZID=UTC:20230422T100000
DTEND;TZID=UTC:20230422T150000
DTSTAMP:20260424T055711
CREATED:20230126T023603Z
LAST-MODIFIED:20230126T023603Z
UID:15104-1682157600-1682175600@pickeringtononline.com
SUMMARY:Earth Day Cleanup
DESCRIPTION:Help us clean up Sycamore Creek and the wooded areas around Pickerington Village!  In addition to collecting litter\, we will be removing invasive plants from Pickerington’s two wildlife preserves – Coyote Run and the Hague Nature Preserve. \nPickerington Earth Day: Pickerington Earth Day Clean Up (signupgenius.com) \nShare this:\n				Share on Facebook (Opens in new window)\n				Facebook\n			\n				Share on LinkedIn (Opens in new window)\n				LinkedIn\n			\n				Share on Threads (Opens in new window)\n				Threads\n			\n				Share on X (Opens in new window)\n				X\n			Like this:Like Loading...
URL:https://pickeringtononline.com/event/earth-day-cleanup/
LOCATION:Combustion Tap Room & Brewery\, 80 W Church S\, Pickerington\, OH\, 43147
ORGANIZER;CN="Pickerington Online":MAILTO:editor@pickeringtononline.com
END:VEVENT
END:VCALENDAR