BEGIN:VCALENDAR
VERSION:2.0
PRODID:-//Pickerington Online - ECPv6.15.20//NONSGML v1.0//EN
CALSCALE:GREGORIAN
METHOD:PUBLISH
X-WR-CALNAME:Pickerington Online
X-ORIGINAL-URL:https://pickeringtononline.com
X-WR-CALDESC:Events for Pickerington Online
REFRESH-INTERVAL;VALUE=DURATION:PT1H
X-Robots-Tag:noindex
X-PUBLISHED-TTL:PT1H
BEGIN:VTIMEZONE
TZID:UTC
BEGIN:STANDARD
TZOFFSETFROM:+0000
TZOFFSETTO:+0000
TZNAME:UTC
DTSTART:20220101T000000
END:STANDARD
END:VTIMEZONE
BEGIN:VEVENT
DTSTART;TZID=UTC:20230413T183000
DTEND;TZID=UTC:20230417T140000
DTSTAMP:20260422T052842
CREATED:20230206T001021Z
LAST-MODIFIED:20230206T001021Z
UID:15314-1681410600-1681740000@pickeringtononline.com
SUMMARY:Oklahoma
DESCRIPTION:Share this:\n				Share on Facebook (Opens in new window)\n				Facebook\n			\n				Share on LinkedIn (Opens in new window)\n				LinkedIn\n			\n				Share on Threads (Opens in new window)\n				Threads\n			\n				Share on X (Opens in new window)\n				X\n			Like this:Like Loading...
URL:https://pickeringtononline.com/event/oklahoma/
LOCATION:OH
END:VEVENT
BEGIN:VEVENT
DTSTART;VALUE=DATE:20230414
DTEND;VALUE=DATE:20230418
DTSTAMP:20260422T052842
CREATED:20230130T035605Z
LAST-MODIFIED:20230130T035605Z
UID:15231-1681430400-1681775999@pickeringtononline.com
SUMMARY:Once Upon a Mattress MCT
DESCRIPTION:Share this:\n				Share on Facebook (Opens in new window)\n				Facebook\n			\n				Share on LinkedIn (Opens in new window)\n				LinkedIn\n			\n				Share on Threads (Opens in new window)\n				Threads\n			\n				Share on X (Opens in new window)\n				X\n			Like this:Like Loading...
URL:https://pickeringtononline.com/event/once-upon-a-mattress-mct/
LOCATION:Millersport Elementary Theater\, 11850 Lancaster St\, Millersport\, OH\, 43046\, United States
END:VEVENT
END:VCALENDAR