BEGIN:VCALENDAR
VERSION:2.0
PRODID:-//Pickerington Online - ECPv6.15.20//NONSGML v1.0//EN
CALSCALE:GREGORIAN
METHOD:PUBLISH
X-ORIGINAL-URL:https://pickeringtononline.com
X-WR-CALDESC:Events for Pickerington Online
REFRESH-INTERVAL;VALUE=DURATION:PT1H
X-Robots-Tag:noindex
X-PUBLISHED-TTL:PT1H
BEGIN:VTIMEZONE
TZID:UTC
BEGIN:STANDARD
TZOFFSETFROM:+0000
TZOFFSETTO:+0000
TZNAME:UTC
DTSTART:20210101T000000
END:STANDARD
END:VTIMEZONE
BEGIN:VEVENT
DTSTART;TZID=UTC:20220920T113000
DTEND;TZID=UTC:20220920T130000
DTSTAMP:20260424T110930
CREATED:20220908T182832Z
LAST-MODIFIED:20220908T183237Z
UID:12306-1663673400-1663678800@pickeringtononline.com
SUMMARY:State of Fairfield County
DESCRIPTION:Join the Lancaster Fairfield County Chamber of Commerce and Fairfield County officials for the annual State of the County address. \nHear from County Administrator Aunie Cordle and Commissioners Jeff Fix\, Steve Davis\, and Dave Levacy\, as they present updates on Fairfield County. \n\nRegistration Closes Monday\, Sept. 12 at 4 p.m. \n  \nShare this:\n				Share on Facebook (Opens in new window)\n				Facebook\n			\n				Share on LinkedIn (Opens in new window)\n				LinkedIn\n			\n				Share on Threads (Opens in new window)\n				Threads\n			\n				Share on X (Opens in new window)\n				X\n			Like this:Like Loading...
URL:https://pickeringtononline.com/event/state-of-fairfield-county/
LOCATION:Violet Woods (formerly The Wigwam)\, 10190 Blacklick Eastern Road\, Pickerington\, OH\, 43147\, United States
ORGANIZER;CN="Lancaster Fairfield County Chamber of Commerce":MAILTO:margie@lancoc.org
END:VEVENT
END:VCALENDAR