BEGIN:VCALENDAR
VERSION:2.0
PRODID:-//Pickerington Online - ECPv6.15.20//NONSGML v1.0//EN
CALSCALE:GREGORIAN
METHOD:PUBLISH
X-ORIGINAL-URL:https://pickeringtononline.com
X-WR-CALDESC:Events for Pickerington Online
REFRESH-INTERVAL;VALUE=DURATION:PT1H
X-Robots-Tag:noindex
X-PUBLISHED-TTL:PT1H
BEGIN:VTIMEZONE
TZID:UTC
BEGIN:STANDARD
TZOFFSETFROM:+0000
TZOFFSETTO:+0000
TZNAME:UTC
DTSTART:20210101T000000
END:STANDARD
END:VTIMEZONE
BEGIN:VEVENT
DTSTART;TZID=UTC:20220614T090000
DTEND;TZID=UTC:20220616T160000
DTSTAMP:20260419T091647
CREATED:20220508T050823Z
LAST-MODIFIED:20220508T050823Z
UID:8896-1655197200-1655395200@pickeringtononline.com
SUMMARY:Earth Camp 2022
DESCRIPTION:Share this:\n				Share on Facebook (Opens in new window)\n				Facebook\n			\n				Share on LinkedIn (Opens in new window)\n				LinkedIn\n			\n				Share on Threads (Opens in new window)\n				Threads\n			\n				Share on X (Opens in new window)\n				X\n			Like this:Like Loading...
URL:https://pickeringtononline.com/event/earth-camp-2022/
LOCATION:Smeck Park\, 7395 Basil Rd\, Baltimore\, OH\, 43105\, United States
END:VEVENT
BEGIN:VEVENT
DTSTART;TZID=UTC:20220615T130000
DTEND;TZID=UTC:20220615T140000
DTSTAMP:20260419T091647
CREATED:20220508T043920Z
LAST-MODIFIED:20220508T043920Z
UID:8868-1655298000-1655301600@pickeringtononline.com
SUMMARY:Sycamore Creek Exploration
DESCRIPTION:Geared for elementary school-age children. Meet at Sycamore Creek Park’s covered bridge and explore the plants and animals in Sycamore Creek. Please dress accordingly. This event will take place outside at Sycamore Creek Park. Sunscreen and bug spray are recommended. \n\n\n\n\n\n\nFor specific accommodation requests or inquiries\, please contact communications@pickeringtonlibrary.org or call 614-837-4104 ext. 221. This event is supported by the State Library of Ohio with federal funds from the Institute of Museum and Library Services. \n\n\n\nShare this:\n				Share on Facebook (Opens in new window)\n				Facebook\n			\n				Share on LinkedIn (Opens in new window)\n				LinkedIn\n			\n				Share on Threads (Opens in new window)\n				Threads\n			\n				Share on X (Opens in new window)\n				X\n			Like this:Like Loading...
URL:https://pickeringtononline.com/event/sycamore-creek-exploration/
LOCATION:Sycamore Creek Park\, Lockville Road\, Pickerington\, OH\, 43147\, United States
ORGANIZER;CN="Pickerington Public Library":MAILTO:cbauman@pickeringtonlibrary.org
END:VEVENT
BEGIN:VEVENT
DTSTART;TZID=UTC:20220615T190000
DTEND;TZID=UTC:20220615T190000
DTSTAMP:20260419T091647
CREATED:20220602T222412Z
LAST-MODIFIED:20220602T222412Z
UID:9858-1655319600-1655319600@pickeringtononline.com
SUMMARY:Up Close & Wild - Sherman Civil War Roundtable
DESCRIPTION:Share this:\n				Share on Facebook (Opens in new window)\n				Facebook\n			\n				Share on LinkedIn (Opens in new window)\n				LinkedIn\n			\n				Share on Threads (Opens in new window)\n				Threads\n			\n				Share on X (Opens in new window)\n				X\n			Like this:Like Loading...
URL:https://pickeringtononline.com/event/up-close-wild-sherman-civil-war-roundtable/
LOCATION:Sherman House Museum\, 137 East Main Street\, Lancaster\, OH\, 43130\, United States
END:VEVENT
END:VCALENDAR