BEGIN:VCALENDAR
VERSION:2.0
PRODID:-//Pickerington Online - ECPv6.15.20//NONSGML v1.0//EN
CALSCALE:GREGORIAN
METHOD:PUBLISH
X-WR-CALNAME:Pickerington Online
X-ORIGINAL-URL:https://pickeringtononline.com
X-WR-CALDESC:Events for Pickerington Online
REFRESH-INTERVAL;VALUE=DURATION:PT1H
X-Robots-Tag:noindex
X-PUBLISHED-TTL:PT1H
BEGIN:VTIMEZONE
TZID:UTC
BEGIN:STANDARD
TZOFFSETFROM:+0000
TZOFFSETTO:+0000
TZNAME:UTC
DTSTART:20210101T000000
END:STANDARD
END:VTIMEZONE
BEGIN:VEVENT
DTSTART;TZID=UTC:20220610T190000
DTEND;TZID=UTC:20220612T160000
DTSTAMP:20260420T195357
CREATED:20220603T054331Z
LAST-MODIFIED:20220603T054331Z
UID:9865-1654887600-1655049600@pickeringtononline.com
SUMMARY:Somewhat True Tale of Robin Hood
DESCRIPTION:Share this:\n				Share on Facebook (Opens in new window)\n				Facebook\n			\n				Share on LinkedIn (Opens in new window)\n				LinkedIn\n			\n				Share on Threads (Opens in new window)\n				Threads\n			\n				Share on X (Opens in new window)\n				X\n			Like this:Like Loading...
URL:https://pickeringtononline.com/event/somewhat-true-tale-of-robin-hood/
LOCATION:Lancaster Camp Ground\, 2151 West Fair Avenue\, Lancaster\, OH\, 43130\, United States
CATEGORIES:Community Theater
END:VEVENT
BEGIN:VEVENT
DTSTART;TZID=UTC:20220611T080000
DTEND;TZID=UTC:20220611T150000
DTSTAMP:20260420T195357
CREATED:20220227T214806Z
LAST-MODIFIED:20220227T215024Z
UID:6939-1654934400-1654959600@pickeringtononline.com
SUMMARY:Shred Day Pickerington
DESCRIPTION:Free paper shredding & electronics recycling event. \nShare this:\n				Share on Facebook (Opens in new window)\n				Facebook\n			\n				Share on LinkedIn (Opens in new window)\n				LinkedIn\n			\n				Share on Threads (Opens in new window)\n				Threads\n			\n				Share on X (Opens in new window)\n				X\n			Like this:Like Loading...
URL:https://pickeringtononline.com/event/shred-day-pickerington/
LOCATION:Dwayne Spence Funeral Home Pickerington\, 550 Hill Road North\, Pickerington\, OH\, 43147\, United States
CATEGORIES:Community Event
END:VEVENT
BEGIN:VEVENT
DTSTART;TZID=UTC:20220611T120000
DTEND;TZID=UTC:20220612T150000
DTSTAMP:20260420T195357
CREATED:20220602T214210Z
LAST-MODIFIED:20220602T214210Z
UID:9842-1654948800-1655046000@pickeringtononline.com
SUMMARY:Frontier Militia Muster
DESCRIPTION:Captain Joseph Ogle’s Company\, Ohio County (Virginia) Militia presents\nFrontier Militia Muster\nin 1777\, while General George Washington’s young army faced off against the British in the east\, much of the protection of the western frontier was left to local county militia units. The defense of families who lived in the panhandle of Western Virginia along the Ohio River fell to the brave men of the Ohio County Militia. Far from professional soldiers\, the members of the militia\, in addition to carving out their existence in a near wilderness\, would “muster” regularly to share news\, train in military tactics\, socialize\, and generally patrol the frontier areas in which they lived.\nThe recreated Captain Joseph Ogle’s Company\, Ohio County (Virginia) Militia invites you to meet their members to discuss the lives of those intrepid souls who took it upon themselves to defend lives\, homes and property. Experience what an average day was like and activities that filled their time\, what foods they ate\, and how they passed any down time.\nPETS\nPets are welcome at Smeck Park but we ask that you not bring pets to this program.\nSATURDAY\, JUNE 11\, 2022 AT 12 PM – 8 PM\nSUNDAY\, JUNE 12\, 2022 AT 7 AM – 3 PM\nShare this:\n				Share on Facebook (Opens in new window)\n				Facebook\n			\n				Share on LinkedIn (Opens in new window)\n				LinkedIn\n			\n				Share on Threads (Opens in new window)\n				Threads\n			\n				Share on X (Opens in new window)\n				X\n			Like this:Like Loading...
URL:https://pickeringtononline.com/event/frontier-militia-muster/
LOCATION:Smeck Park\, 7395 Basil Rd\, Baltimore\, OH\, 43105\, United States
ORGANIZER;CN="Fairfield County Park District":MAILTO:kcaito@fairfieldcountyparks.org
END:VEVENT
END:VCALENDAR