BEGIN:VCALENDAR
VERSION:2.0
PRODID:-//Pickerington Online - ECPv6.15.20//NONSGML v1.0//EN
CALSCALE:GREGORIAN
METHOD:PUBLISH
X-ORIGINAL-URL:https://pickeringtononline.com
X-WR-CALDESC:Events for Pickerington Online
REFRESH-INTERVAL;VALUE=DURATION:PT1H
X-Robots-Tag:noindex
X-PUBLISHED-TTL:PT1H
BEGIN:VTIMEZONE
TZID:UTC
BEGIN:STANDARD
TZOFFSETFROM:+0000
TZOFFSETTO:+0000
TZNAME:UTC
DTSTART:20210101T000000
END:STANDARD
END:VTIMEZONE
BEGIN:VEVENT
DTSTART;TZID=UTC:20220220T090000
DTEND;TZID=UTC:20220220T150000
DTSTAMP:20260420T090126
CREATED:20220114T012459Z
LAST-MODIFIED:20220114T012459Z
UID:6567-1645347600-1645369200@pickeringtononline.com
SUMMARY:Toy Sale & Tractor Show
DESCRIPTION:  \nShare this:\n				Share on Facebook (Opens in new window)\n				Facebook\n			\n				Share on LinkedIn (Opens in new window)\n				LinkedIn\n			\n				Share on Threads (Opens in new window)\n				Threads\n			\n				Share on X (Opens in new window)\n				X\n			Like this:Like Loading...
URL:https://pickeringtononline.com/event/toy-sale-tractor-show/
LOCATION:Fairfield County Fair Grounds\, 157 E Fair Ave\, Lancaster\, 43130\, United States
CATEGORIES:Community Event
ORGANIZER;CN="Fairfield County Anique Tractor Club":MAILTO:info@fairfieldcountytractorclub.com
END:VEVENT
END:VCALENDAR